BEGIN:VCALENDAR
VERSION:2.0
PRODID:-//ChamberMaster//Event Calendar 2.0//EN
METHOD:PUBLISH
X-PUBLISHED-TTL:P3D
REFRESH-INTERVAL:P3D
CALSCALE:GREGORIAN
BEGIN:VEVENT
DTSTART:20240725T003000Z
DTEND:20240725T020000Z
X-MICROSOFT-CDO-ALLDAYEVENT:FALSE
SUMMARY:How to Build Your Brand Virtual Workshop
DESCRIPTION:Join HERmosa Circle Board Members Evelyne & Jenny as they deliver bite size information on how to build your business. They hosted a in-person workshop in April that sold out quickly so now offering a zoom session to make it accessible to more women!\n\n\n\nThis is the same workshop as the in person\, just now on zoom. Whether you're thinking about starting a business or in the mist of it they will share valuable information to help support you and your business. Sign up today to secure your spot!
X-ALT-DESC;FMTTYPE=text/html:Join HERmosa Circle Board Members Evelyne &amp\; Jenny as they deliver bite size information on how to build your business. They hosted a in-person workshop in April that sold out quickly so now offering a zoom session to make it accessible to more women!<br />\n<br />\nThis is the same workshop as the in person\, just now on zoom.&nbsp\;Whether you&rsquo\;re thinking about starting a business or in the mist of it they will share valuable information to help support you and your business. Sign up today to secure your spot!
LOCATION:Zoom link will be provided
UID:e.2438.9576
SEQUENCE:3
DTSTAMP:20260420T002706Z
URL:https://business.hbchamber.net/events/details/how-to-build-your-brand-virtual-workshop-9576
END:VEVENT

END:VCALENDAR
