BEGIN:VCALENDAR
VERSION:2.0
PRODID:-//ChamberMaster//Event Calendar 2.0//EN
METHOD:PUBLISH
X-PUBLISHED-TTL:P3D
REFRESH-INTERVAL:P3D
CALSCALE:GREGORIAN
BEGIN:VEVENT
DTSTART:20241205T020000Z
DTEND:20241205T040000Z
X-MICROSOFT-CDO-ALLDAYEVENT:FALSE
SUMMARY:Holiday Reflection with Amaloa
DESCRIPTION:As the year comes to a close\, it's time to pause\, reflect\, and prepare ourselves for the new beginnings ahead. We're excited to invite you to our special Holiday Reflection with Amaloa\, designed to help you let go of the old\, embrace the present\, and manifest your best year yet.\n\nThis immersive experience will guide you through powerful reflections & activities to release anything holding you back and align your mind\, body\, and spirit with the highest vibrations of love\, light\, and gratitude.
X-ALT-DESC;FMTTYPE=text/html:As the year comes to a close\, it&rsquo\;s time to pause\, reflect\, and prepare ourselves for the new beginnings ahead. We&rsquo\;re excited to invite you to our special Holiday Reflection with Amaloa\, designed to help you let go of the old\, embrace the present\, and manifest your best year yet.<br />\nThis immersive experience will guide you through powerful reflections &amp\; activities to release anything holding you back and align your mind\, body\, and spirit with the highest vibrations of love\, light\, and gratitude.
LOCATION:Amaloa 200 Pier Avenue #421 Hermosa Beach\, CA 90254
UID:e.2438.11047
SEQUENCE:3
DTSTAMP:20260422T173105Z
URL:https://business.hbchamber.net/events/details/holiday-reflection-with-amaloa-11047
END:VEVENT

END:VCALENDAR
