BEGIN:VCALENDAR
VERSION:2.0
PRODID:-//ChamberMaster//Event Calendar 2.0//EN
METHOD:PUBLISH
X-PUBLISHED-TTL:P3D
REFRESH-INTERVAL:P3D
CALSCALE:GREGORIAN
BEGIN:VEVENT
DTSTART;VALUE=DATE:20241116
DTEND;VALUE=DATE:20241118
TRANSP:TRANSPARENT
X-MICROSOFT-CDO-ALLDAYEVENT:TRUE
SUMMARY:Holiday Portrait Pop-up
DESCRIPTION:THERE IS NOT AN EASIER WAY TO HAVE YOUR HOLIDAY PORTRAITS TAKEN THAN TO COME TO THE STUDIO!\n\n \n\nEASY PARKING\, COMFORTABLE CHAIRS & COLD BEVERAGE\, EASY NO-POSE POSING. CONTROLLED LIGHTING\, CONTROLLED TEMPS\, NO SUN IN YOUR EYES\, OR SAND IN YOUR SHOES.\n\n \n\nIT'S EASY-PEASY TO PICK YOUR FAVORITES FROM A PROOF GALLERY OF THE VERY BEST IMAGES YOU GET TO PICK YOUR BEST FIVE!
X-ALT-DESC;FMTTYPE=text/html:THERE IS NOT AN EASIER WAY TO HAVE YOUR HOLIDAY PORTRAITS TAKEN THAN TO COME TO THE STUDIO!<br />\n&nbsp\;<br />\nEASY PARKING\, COMFORTABLE CHAIRS &amp\; COLD BEVERAGE\, EASY NO-POSE POSING. CONTROLLED LIGHTING\, CONTROLLED TEMPS\, NO SUN IN YOUR EYES\, OR SAND IN YOUR SHOES.<br />\n&nbsp\;<br />\nIT&#39\;S EASY-PEASY TO PICK YOUR FAVORITES FROM A PROOF GALLERY OF THE VERY BEST IMAGES&hellip\;YOU GET TO PICK YOUR BEST FIVE!
LOCATION:THE STUDIO 636 CYPRESS AVE HERMOSA BEACH\, CA 90254
UID:e.2438.10809
SEQUENCE:3
DTSTAMP:20260422T192342Z
URL:https://business.hbchamber.net/events/details/holiday-portrait-pop-up-10809
END:VEVENT

END:VCALENDAR
