BEGIN:VCALENDAR
VERSION:2.0
PRODID:-//ChamberMaster//Event Calendar 2.0//EN
METHOD:PUBLISH
X-PUBLISHED-TTL:P3D
REFRESH-INTERVAL:P3D
CALSCALE:GREGORIAN
BEGIN:VEVENT
DTSTART:20240323T220000Z
DTEND:20240324T010000Z
X-MICROSOFT-CDO-ALLDAYEVENT:FALSE
SUMMARY:HERStory "The History of Women in Hermosa"
DESCRIPTION:HERStory Join us to Celebrate HERStory\, "The History of Women in Hermosa Beach". This event will be held at The Hermosa Museum\, and we will have Live Music\, food\, drinks as well as local female Historians from skateboarders\, surfers\, musicians as well as volleyball players speaking. This is an open event to the community\, so you do not have to be a member to attend. $5 donation goes to the museum\n\n\n\nhttps://hermosabeachmuseum-bloom.kindful.com/e/herstory-the-history-of-women-in-hermosa-beach
X-ALT-DESC;FMTTYPE=text/html:HERStory Join us to Celebrate HERStory\, "The History of Women in Hermosa Beach". This event will be held at The Hermosa Museum\, and we will have Live Music\, food\, drinks as well as local female Historians from skateboarders\, surfers\, musicians as well as volleyball players speaking. This is an open event to the community\, so you do not have to be a member to attend. $5 donation goes to the museum<br>\n<br>\n<a href="https://hermosabeachmuseum-bloom.kindful.com/e/herstory-the-history-of-women-in-hermosa-beach">https://hermosabeachmuseum-bloom.kindful.com/e/herstory-the-history-of-women-in-hermosa-beach</a>
LOCATION:Hermosa Beach Musuem 710 Pier Ave Hermosa Beach CA 90254
UID:e.2438.9377
SEQUENCE:3
DTSTAMP:20260419T165223Z
URL:https://business.hbchamber.net/events/details/herstory-the-history-of-women-in-hermosa-9377
END:VEVENT

END:VCALENDAR
