BEGIN:VCALENDAR
VERSION:2.0
PRODID:-//ChamberMaster//Event Calendar 2.0//EN
METHOD:PUBLISH
X-PUBLISHED-TTL:P3D
REFRESH-INTERVAL:P3D
CALSCALE:GREGORIAN
BEGIN:VEVENT
DTSTART:20220210T023000Z
DTEND:20220210T043000Z
X-MICROSOFT-CDO-ALLDAYEVENT:FALSE
SUMMARY:HERmosa Women\, Wine\, Whiskey & Wings Wednesday
DESCRIPTION:HERmosa would like to formally invite you to Women\, Wine\, Whiskey & Wings Wednesday on February 9 at 6:30pm at Patrick Molloy's! We want to bring all of us bad ass businesswomen together to see who wants to be involved in making HERmosa the largest women in business group.
X-ALT-DESC;FMTTYPE=text/html:<span style="font-size:14px\;"><span style="font-family:arial\;"><span style="caret-color: rgb(38\, 63\, 87)\; color: rgb(38\, 63\, 87)\;">HERmosa would like to formally invite you to&nbsp\;</span><strong style="font-size: 16px\; caret-color: rgb(38\, 63\, 87)\; color: rgb(38\, 63\, 87)\; font-family: Helvetica\;">Women\, Wine\, Whiskey &amp\; Wings Wednesday</strong><span style="caret-color: rgb(38\, 63\, 87)\; color: rgb(38\, 63\, 87)\;">&nbsp\;on&nbsp\;</span><strong style="font-size: 16px\; caret-color: rgb(38\, 63\, 87)\; color: rgb(38\, 63\, 87)\; font-family: Helvetica\;">February 9 at 6:30pm</strong><span style="caret-color: rgb(38\, 63\, 87)\; color: rgb(38\, 63\, 87)\;">&nbsp\;at&nbsp\;</span><strong style="font-size: 16px\; caret-color: rgb(38\, 63\, 87)\; color: rgb(38\, 63\, 87)\; font-family: Helvetica\;">Patrick Molloy&#39\;s!</strong><span style="caret-color: rgb(38\, 63\, 87)\; color: rgb(38\, 63\, 87)\;">&nbsp\;We want to&nbsp\;bring all of us bad ass businesswomen together to see who wants to be involved in making HERmosa the largest women in business group.</span></span></span>
LOCATION:Patrick Molloy's
UID:e.2438.5161
SEQUENCE:3
DTSTAMP:20260421T134425Z
URL:https://business.hbchamber.net/events/details/hermosa-women-wine-whiskey-wings-wednesday-5161
END:VEVENT

END:VCALENDAR
