BEGIN:VCALENDAR
VERSION:2.0
PRODID:-//ChamberMaster//Event Calendar 2.0//EN
METHOD:PUBLISH
X-PUBLISHED-TTL:P3D
REFRESH-INTERVAL:P3D
CALSCALE:GREGORIAN
BEGIN:VEVENT
DTSTART:20220210T023000Z
DTEND:20220210T043000Z
X-MICROSOFT-CDO-ALLDAYEVENT:FALSE
SUMMARY:HERmosa @ Patrick Molloy's
DESCRIPTION:Are you a woman in business? A female entrepreneur? A leader interested in networking with other women? HERmosa is the Chamber's new networking group for both Chamber members and future Chamber members. Come be included in the newest and best group around... HERmosa.
X-ALT-DESC;FMTTYPE=text/html:Are you a woman in business? A female entrepreneur? A leader interested in networking with other women? HERmosa is the Chamber&#39\;s new networking group for both Chamber members and future Chamber members. Come be included in the newest and best group around... HERmosa.
LOCATION:Patrick Molloy's
UID:e.2438.5162
SEQUENCE:3
DTSTAMP:20260421T131459Z
URL:https://business.hbchamber.net/events/details/hermosa-patrick-molloy-s-5162
END:VEVENT

END:VCALENDAR
