BEGIN:VCALENDAR
VERSION:2.0
PRODID:-//ChamberMaster//Event Calendar 2.0//EN
METHOD:PUBLISH
X-PUBLISHED-TTL:P3D
REFRESH-INTERVAL:P3D
CALSCALE:GREGORIAN
BEGIN:VEVENT
DTSTART:20241214T010000Z
DTEND:20241214T050000Z
X-MICROSOFT-CDO-ALLDAYEVENT:FALSE
SUMMARY:Hermosa Holiday Movie Night "The Nightmare Before Christmas"
DESCRIPTION:Hosted by Hermosa Beach Community Resources and Police Department. Pre-movie photos with Santa\, holiday games\, crafts\, and concessions.
X-ALT-DESC;FMTTYPE=text/html:Hosted by Hermosa Beach Community Resources and Police Department. Pre-movie photos with Santa\, holiday games\, crafts\, and concessions.&nbsp\;
LOCATION:Hermosa Beach Community Theatre 710 Pier Avenue Hermosa beach\, CA 90254
UID:e.2438.10773
SEQUENCE:3
DTSTAMP:20260422T194745Z
URL:https://business.hbchamber.net/events/details/hermosa-holiday-movie-night-the-nightmare-before-christmas-10773
END:VEVENT

END:VCALENDAR
