BEGIN:VCALENDAR
VERSION:2.0
PRODID:-//ChamberMaster//Event Calendar 2.0//EN
METHOD:PUBLISH
X-PUBLISHED-TTL:P3D
REFRESH-INTERVAL:P3D
CALSCALE:GREGORIAN
BEGIN:VEVENT
DTSTART:20240328T220000Z
DTEND:20240329T000000Z
X-MICROSOFT-CDO-ALLDAYEVENT:FALSE
SUMMARY:Hermosa Greenbelt Trail Restoration with SBPC
DESCRIPTION:In an on-going effort to establish wildlife connectivity for pollinators\, like the Monarch and the El Segundo Blue Butterflies\, the South Bay Parkland Conservancy is pleased to host habitat restoration and on-going stewardship along the Hermosa Valley Greenbelt Trail! We are now in our 2nd year of establishing native habitat on the HV Greenbelt\, with restoration locations on every block between Herondo Ave and 5th Street. The summer season of maintenance helped us get ahead of the invasives\, and the native plants have shown signs of growth\, resilience\, and beauty throughout the hotter months. We've seen an increase of pollinators visiting the restoration areas throughout\, like the Monarch\, the Acmon Blue\, and the Marine Blue butterflies! We'll continue this work\, beautifying through the Fall\, and preparing each area for the coming planting season\, in November! Please sign up here - this is a free volunteer event -https://www.signupgenius.com/go/10c0d4ba5a829a7facf8-hermosa1#/
X-ALT-DESC;FMTTYPE=text/html:In an on-going effort to establish wildlife connectivity for pollinators\, like the Monarch and the El Segundo Blue Butterflies\, the South Bay Parkland Conservancy is pleased to host habitat restoration and on-going stewardship along the Hermosa Valley Greenbelt Trail! We are now in our 2nd year of establishing native habitat on the HV Greenbelt\, with restoration locations on every block between Herondo Ave and 5th Street. The summer season of maintenance helped us get ahead of the invasives\, and the native plants have shown signs of growth\, resilience\, and beauty throughout the hotter months. We&#39\;ve seen an increase of pollinators visiting the restoration areas throughout\, like the Monarch\, the Acmon Blue\, and the Marine Blue butterflies! We&#39\;ll continue this work\, beautifying through the Fall\, and preparing each area for the coming planting season\, in November! Please sign up here - this is a free volunteer event -https://www.signupgenius.com/go/10c0d4ba5a829a7facf8-hermosa1#/
LOCATION:Meet at Herondo St on the Greenbelt
UID:e.2438.9436
SEQUENCE:3
DTSTAMP:20260419T150047Z
URL:https://business.hbchamber.net/events/details/hermosa-greenbelt-trail-restoration-with-sbpc-03-28-2024-9436
END:VEVENT

END:VCALENDAR
