BEGIN:VCALENDAR
VERSION:2.0
PRODID:-//ChamberMaster//Event Calendar 2.0//EN
METHOD:PUBLISH
X-PUBLISHED-TTL:P3D
REFRESH-INTERVAL:P3D
CALSCALE:GREGORIAN
BEGIN:VEVENT
DTSTART:20240307T010000Z
DTEND:20240307T040000Z
X-MICROSOFT-CDO-ALLDAYEVENT:FALSE
SUMMARY:Hermosa Friends Foundation $10\,000 Nonprofit Quick Pitch Contest
DESCRIPTION:Please join the Hermosa Friends Foundation and local nonprofit\n\norganizations on Wednesday\, March 6\, 2024 for the fourth annual\n\nThe Hermosa Friends Foundation is a registered\n\n501(c)(3) nonprofit tax exempt organization.\n\nTax ID # 81-2697458\n\nVisit us at:\n\nwww.HermosaFriendsFoundation.org\n\nSouth Bay Nonprofit Quick Pitch Contest\n\na.k.a. Win $10\,000 in 4 minutes for your local nonprofit organization!\n\n\n\nRepresentatives from up to 12 local nonprofit organizations will make live 4-minute presentations in front of a live audience for the chance to win a $10\,000 grant from the Hermosa Friends Foundation. Members of the Hermosa Friends Foundation will vote to determine the winning presentation. Winner announced and $10\,000 grant check presented at the event. Presentations will be informative\, entertaining\, compelling and passionate! Wednesday\, March 6\, 2024 from 5-8 PM The Lighthouse Caf  (Hermosa Beach) There is no cost to apply. For contest application and rules\, please see: https://hff.typeform.com/QuickPitch2024 To RSVP to just attend the event\, please see: https://hff.typeform.com/QuickPitch-RSVP\n\n \nWe would love for your Organization to apply.  You can apply online at: https://hff.typeform.com/QuickPitch2024\n\n \n\nThe Application is due no later than 11:59 PM on Thurs\, Feb 22nd.  If more than 12 organizations apply\, then HFF will pick the presenters by lottery drawing on Sat\, Feb 24th.\n\n \n\nAlso\, please RSVP to attend the event yourself (The event is free\, but everyone must RSVP to attend).  RSVP here: https://hff.typeform.com/QuickPitch-RSVP
X-ALT-DESC;FMTTYPE=text/html:Please join the Hermosa Friends Foundation and local nonprofit<br />\norganizations on Wednesday\, March 6\, 2024 for the fourth annual<br />\nThe Hermosa Friends Foundation is a registered<br />\n501(c)(3) nonprofit tax exempt organization.<br />\nTax ID # 81-2697458<br />\nVisit us at:<br />\nwww.HermosaFriendsFoundation.org<br />\nSouth Bay Nonprofit Quick Pitch Contest<br />\na.k.a. Win $10\,000 in 4 minutes for your local nonprofit organization!<br />\n<br />\nRepresentatives from up to 12 local nonprofit organizations will make live 4-minute presentations in front of a live audience for the chance to win a $10\,000 grant from the Hermosa Friends Foundation. Members of the Hermosa Friends Foundation will vote to determine the winning presentation. Winner announced and $10\,000 grant check presented at the event. Presentations will be informative\, entertaining\, compelling and passionate! Wednesday\, March 6\, 2024 from 5-8 PM The Lighthouse Caf&eacute\; (Hermosa Beach) There is no cost to apply. For contest application and rules\, please see: https://hff.typeform.com/QuickPitch2024 To RSVP to just attend the event\, please see: https://hff.typeform.com/QuickPitch-RSVP<br />\n&nbsp\;\n<p style="margin: 0pt 0px\; color: rgb(34\, 34\, 34)\; font-family: Arial\, Helvetica\, sans-serif\; font-size: small\; direction: ltr\; line-height: 1.38\;"><span style="font-family: Arial\; font-size: 12pt\; color: rgb(0\, 0\, 0)\; line-height: normal\;">We would love for your Organization to apply.&nbsp\; You can apply online at:&nbsp\;</span><span style="font-family: Helvetica\, Arial\, sans-serif\; font-size: 12pt\; color: rgb(0\, 0\, 0)\;"><a data-saferedirecturl="https://www.google.com/url?q=https://hff.typeform.com/QuickPitch2024&amp\;source=gmail&amp\;ust=1707853345774000&amp\;usg=AOvVaw1EUv79100oqw3czkq3KUk_" href="https://hff.typeform.com/QuickPitch2024" id="m_-8993510393785576867OWA7592f616-010e-f3ff-9a2c-4e639bd4df5c" rel="nofollow noopener noreferrer" style="color: rgb(17\, 85\, 204)\; margin: 0px\;" target="_blank">https://hff.typeform.com/<wbr />QuickPitch2024</a></span></p>\n\n<p style="margin: 0pt 0px\; color: rgb(34\, 34\, 34)\; font-family: Arial\, Helvetica\, sans-serif\; font-size: small\; direction: ltr\; line-height: 1.38\;">&nbsp\;</p>\n\n<p style="margin: 0pt 0px\; color: rgb(34\, 34\, 34)\; font-family: Arial\, Helvetica\, sans-serif\; font-size: small\; direction: ltr\; line-height: 1.38\;"><span style="font-family: Arial\; font-size: 12pt\; color: rgb(0\, 0\, 0)\; line-height: normal\;">The Application is due no later than 11:59 PM on Thurs\, Feb 22nd.&nbsp\; If more than 12 organizations apply\, then HFF will pick the presenters by lottery drawing on Sat\, Feb 24th.</span></p>\n\n<p style="margin: 0pt 0px\; color: rgb(34\, 34\, 34)\; font-family: Arial\, Helvetica\, sans-serif\; font-size: small\; direction: ltr\; line-height: 1.38\;">&nbsp\;</p>\n\n<p style="margin: 0pt 0px\; color: rgb(34\, 34\, 34)\; font-family: Arial\, Helvetica\, sans-serif\; font-size: small\; direction: ltr\; line-height: 1.38\;"><span style="font-family: Helvetica\, Arial\, sans-serif\; font-size: 12pt\; color: rgb(0\, 0\, 0)\; line-height: normal\;">Also\, please RSVP to attend the event&nbsp\;yourself (The event is free\, but everyone must RSVP to attend).&nbsp\; RSVP here:&nbsp\;</span><span style="font-family: Helvetica\, Arial\, sans-serif\; font-size: 12pt\; color: rgb(0\, 0\, 0)\;"><a data-saferedirecturl="https://www.google.com/url?q=https://hff.typeform.com/QuickPitch-RSVP&amp\;source=gmail&amp\;ust=1707853345774000&amp\;usg=AOvVaw1HKBQwg4z7VPw-3m0-vFnm" href="https://hff.typeform.com/QuickPitch-RSVP" id="m_-8993510393785576867OWAdc4e2b34-f2d6-6448-42a6-40ec17db8558" rel="nofollow noopener noreferrer" style="color: rgb(17\, 85\, 204)\; margin: 0px\;" target="_blank">https://hff.typeform.com/<wbr />QuickPitch-RSVP</a></span></p>\n
LOCATION:The Lighthouse Caf (Hermosa Beach) 30 Pier Ave\, Hermosa Beach\, CA 90254
UID:e.2438.9373
SEQUENCE:3
DTSTAMP:20260419T150342Z
URL:https://business.hbchamber.net/events/details/hermosa-friends-foundation-10-000-nonprofit-quick-pitch-contest-9373
END:VEVENT

END:VCALENDAR
