BEGIN:VCALENDAR
VERSION:2.0
PRODID:-//ChamberMaster//Event Calendar 2.0//EN
METHOD:PUBLISH
X-PUBLISHED-TTL:P3D
REFRESH-INTERVAL:P3D
CALSCALE:GREGORIAN
BEGIN:VEVENT
DTSTART;VALUE=DATE:20241122
DTEND;VALUE=DATE:20241125
TRANSP:TRANSPARENT
X-MICROSOFT-CDO-ALLDAYEVENT:TRUE
SUMMARY:Hermosa for the Holidays
DESCRIPTION:Hermosa Beach has mashed together our Holiday Open House and Tree Lighting Ceremony and added a bunch of family-fun activities to make the 4th annual Hermosa for the Holidays.  Get ready the weekend of November 23-24\, 2024 will be an open-air winter wonderland at the beach to:\n\n	Shop for eclectic gifts from local artisans and retailers for everyone on your shopping list\n	Ride carnival rides and inflatables at Pier Plaza\n	Play at our story time tent\, and Santa letter writing station\n	Dance & Sing at the Rock for Tots concert (Saturday) and community concert and tree lighting ceremony (Sunday)\n	Santa pictures for the family!\n	Give back to our community at the Giving Village\n	AND more entertainment and activities for the whole family
X-ALT-DESC;FMTTYPE=text/html:Hermosa Beach has mashed together our Holiday Open House and Tree Lighting Ceremony and added a bunch of family-fun activities to make the 4th annual Hermosa for the Holidays.&nbsp\; Get ready&mdash\;the weekend of November 23-24\, 2024 will be an open-air winter wonderland at the beach to:\n<ul>\n	<li>Shop for eclectic gifts from local artisans and retailers for everyone on your shopping list</li>\n	<li>Ride carnival rides and inflatables at Pier Plaza</li>\n	<li>Play at our story time tent\, and Santa letter writing station</li>\n	<li>Dance &amp\; Sing at the Rock for Tots concert (Saturday) and community concert and tree lighting ceremony (Sunday)</li>\n	<li>Santa pictures for the family!</li>\n	<li>Give back to our community at the Giving Village</li>\n	<li>AND more entertainment and activities for the whole family</li>\n</ul>\n
LOCATION:Downtown Hermosa Beach
UID:e.2438.9219
SEQUENCE:3
DTSTAMP:20260422T192343Z
URL:https://business.hbchamber.net/events/details/hermosa-for-the-holidays-9219
END:VEVENT

END:VCALENDAR
