BEGIN:VCALENDAR
VERSION:2.0
PRODID:-//ChamberMaster//Event Calendar 2.0//EN
METHOD:PUBLISH
X-PUBLISHED-TTL:P3D
REFRESH-INTERVAL:P3D
CALSCALE:GREGORIAN
BEGIN:VEVENT
DTSTART:20241218T010000Z
DTEND:20241218T023000Z
X-MICROSOFT-CDO-ALLDAYEVENT:FALSE
SUMMARY:Hermosa Five-O Senior Activity Center Holiday Party
DESCRIPTION:HERMOSA FIVE-O HOLIDAY PARTY\n\nCelebrate the holidays with the Hermosa Five-O Senior Activity Center. Join us for dinner\, entertainment and holiday games. If you would like to participate in the holiday game\, please bring a $10 gift.
X-ALT-DESC;FMTTYPE=text/html:HERMOSA FIVE-O HOLIDAY PARTY<br />\nCelebrate the holidays with the Hermosa Five-O Senior Activity Center. Join us for dinner\, entertainment and holiday games. If you would like to participate in the holiday game\, please bring a $10 gift.&nbsp\;
LOCATION:Hermosa Five-O Senior Activity Center 710 Pier Avenue Hermosa Beach\, CA 90254
UID:e.2438.11040
SEQUENCE:3
DTSTAMP:20260422T174336Z
URL:https://business.hbchamber.net/events/details/hermosa-five-o-senior-activity-center-holiday-party-11040
END:VEVENT

END:VCALENDAR
