BEGIN:VCALENDAR
VERSION:2.0
PRODID:-//ChamberMaster//Event Calendar 2.0//EN
METHOD:PUBLISH
X-PUBLISHED-TTL:P3D
REFRESH-INTERVAL:P3D
CALSCALE:GREGORIAN
BEGIN:VEVENT
DTSTART:20241121T013000Z
DTEND:20241121T023000Z
X-MICROSOFT-CDO-ALLDAYEVENT:FALSE
SUMMARY:HERmosa Circle Workout Series: The Bar Method
DESCRIPTION:Class Info:\n\nDate: Wednesday\, November 20th\n\nTime: 5:30pm - 6:30pm\n\nRSVP by 12:00pm on November 20th\n\n \n\nAdditional Info:\n\nPlease wear pants that cover your knee and bring socks that cover your entire foot. You can also bring a water bottle if you'd like!\n\n \n\nStudio Address:\n\n1221 Hermosa Ave\, Ste 200\n\nHermosa Beach\, CA 90254\n\n310-376-3444\n\nhermosa@barmethod.com\n\n \n\nBar Method Bio:\n\nFor two decades\, The Bar Method has been building stronger bodies with challenging barre workouts that infuse power into every movement. Each exercise is meticulously designed to transform your body through high-repetition\, low-impact resistance training. With elements of Pilates\, yoga\, and other strength training workouts fused into a ballet-inspired barre workout\, you will experience unthinkable flexibility\, total-body definition\, and metabolism-boosting endurance that lasts long after class.
X-ALT-DESC;FMTTYPE=text/html:<div style="color:rgb(0\, 0\, 0)\;font-family:Helvetica\;font-size:12px\;"><span style="font-size:small\;"><strong><u>Class Info</u></strong>:</span></div>\n\n<div style="color:rgb(0\, 0\, 0)\;font-family:Helvetica\;font-size:12px\;"><span style="font-size:small\;">Date: Wednesday\, November 20th</span></div>\n\n<div style="color:rgb(0\, 0\, 0)\;font-family:Helvetica\;font-size:12px\;"><span style="font-size:small\;">Time: 5:30pm - 6:30pm</span></div>\n\n<div style="color:rgb(0\, 0\, 0)\;font-family:Helvetica\;font-size:12px\;"><span style="font-size:small\;">RSVP by 12:00pm on November 20th</span></div>\n\n<div style="color:rgb(0\, 0\, 0)\;font-family:Helvetica\;font-size:12px\;">&nbsp\;</div>\n\n<div style="color:rgb(0\, 0\, 0)\;font-family:Helvetica\;font-size:12px\;"><span style="font-size:small\;"><u style="font-weight:bold\;">Additional Info</u>:</span></div>\n\n<div style="color:rgb(0\, 0\, 0)\;font-family:Helvetica\;font-size:12px\;"><span style="font-size:small\;">Please wear pants that cover your knee and bring socks that cover your entire foot. You can also bring a water bottle if you&rsquo\;d like!</span></div>\n\n<div style="color:rgb(0\, 0\, 0)\;font-family:Helvetica\;font-size:12px\;">&nbsp\;</div>\n\n<div style="color:rgb(0\, 0\, 0)\;font-family:Helvetica\;font-size:12px\;"><span style="font-size:small\;"><strong><u>Studio Address</u></strong>:</span></div>\n\n<div style="color:rgb(0\, 0\, 0)\;font-family:Helvetica\;font-size:12px\;"><span style="font-size:small\;"><a href="https://www.google.com/maps/search/1221+Hermosa+Ave\,+Ste+200+%0D%0A+Hermosa+Beach\,+CA+90254?entry=gmail&amp\;source=g">1221 Hermosa Ave\, Ste 200</a></span></div>\n\n<div style="color:rgb(0\, 0\, 0)\;font-family:Helvetica\;font-size:12px\;"><span style="font-size:small\;"><a href="https://www.google.com/maps/search/1221+Hermosa+Ave\,+Ste+200+%0D%0A+Hermosa+Beach\,+CA+90254?entry=gmail&amp\;source=g">Hermosa Beach\, CA 90254</a></span></div>\n\n<div style="color:rgb(0\, 0\, 0)\;font-family:Helvetica\;font-size:12px\;"><span style="font-size:small\;">310-376-3444</span></div>\n\n<div style="color:rgb(0\, 0\, 0)\;font-family:Helvetica\;font-size:12px\;"><span style="font-size:small\;"><a href="mailto:hermosa@barmethod.com" target="_blank">hermosa@barmethod.com</a></span></div>\n\n<div style="color:rgb(0\, 0\, 0)\;font-family:Helvetica\;font-size:12px\;">&nbsp\;</div>\n\n<div style="color:rgb(0\, 0\, 0)\;font-family:Helvetica\;font-size:12px\;"><span style="font-size:small\;"><u style="font-weight:bold\;">Bar Method Bio</u>:</span></div>\n\n<div style="color:rgb(0\, 0\, 0)\;font-family:Helvetica\;font-size:12px\;"><span style="font-size:small\;">For two decades\, The Bar Method has been building stronger bodies with challenging barre workouts that infuse power into every movement. Each exercise is meticulously designed to transform your body through high-repetition\, low-impact resistance training. With elements of Pilates\, yoga\, and other strength training workouts fused into a ballet-inspired barre workout\, you will experience unthinkable flexibility\, total-body definition\, and metabolism-boosting endurance that lasts long after class.</span></div>\n
LOCATION:The Bar Method 1221 Hermosa Ave\, Ste 200 Hermosa Beach\, CA 90254
UID:e.2438.10731
SEQUENCE:3
DTSTAMP:20260420T221208Z
URL:https://business.hbchamber.net/events/details/hermosa-circle-workout-series-the-bar-method-10731
END:VEVENT

END:VCALENDAR
