BEGIN:VCALENDAR
VERSION:2.0
PRODID:-//ChamberMaster//Event Calendar 2.0//EN
METHOD:PUBLISH
X-PUBLISHED-TTL:P3D
REFRESH-INTERVAL:P3D
CALSCALE:GREGORIAN
BEGIN:VEVENT
DTSTART:20220316T190000Z
DTEND:20220316T203000Z
X-MICROSOFT-CDO-ALLDAYEVENT:FALSE
SUMMARY:HERmosa Circle Women & Wellness Event
DESCRIPTION:HERmosa Circle invites you to the Women & Wellness\, a lunch & learn event! Dr. Madeline Klobuchar will be discussing women's hormones. Take a deeper look into how certain foods and products can cause our hormones to be imbalanced. Dr. Klobuchar will discuss how they addict our hormones and share non toxic solutions.\n\n\n\nTickets are $25 and you must RSVP in order to attend this event.
X-ALT-DESC;FMTTYPE=text/html:HERmosa Circle invites you to the Women &amp\; Wellness\, a lunch &amp\; learn event! Dr. Madeline Klobuchar will be discussing women&#39\;s hormones. Take a deeper look into how certain foods and products can cause our hormones to be imbalanced. Dr. Klobuchar will discuss how they addict our hormones and share non toxic solutions.<br />\n<br />\nTickets are $25 and you must RSVP in order to attend this event.
LOCATION:Decadence 1332 Hermosa Avenue Hermosa Beach\, CA 90254
UID:e.2438.5292
SEQUENCE:3
DTSTAMP:20260421T105628Z
URL:https://business.hbchamber.net/events/details/hermosa-circle-women-wellness-event-5292
END:VEVENT

END:VCALENDAR
