BEGIN:VCALENDAR
VERSION:2.0
PRODID:-//ChamberMaster//Event Calendar 2.0//EN
METHOD:PUBLISH
X-PUBLISHED-TTL:P3D
REFRESH-INTERVAL:P3D
CALSCALE:GREGORIAN
BEGIN:VEVENT
DTSTART:20220428T013000Z
DTEND:20220428T033000Z
X-MICROSOFT-CDO-ALLDAYEVENT:FALSE
SUMMARY:HERmosa Circle Members Networking Mixer
DESCRIPTION:Join HERmosa Circle to celebrate our new members and get to know each other!
X-ALT-DESC;FMTTYPE=text/html:<div style="caret-color: rgb(34\, 34\, 34)\; color: rgb(34\, 34\, 34)\; font-family: Arial\, Helvetica\, sans-serif\;">Join HERmosa Circle&nbsp\;to celebrate our new members and get to know each other!</div>\n
LOCATION:The Stanton HB 844 Hermosa Avenue Hermosa Beach\, CA 90254
UID:e.2438.5517
SEQUENCE:3
DTSTAMP:20260421T091338Z
URL:https://business.hbchamber.net/events/details/hermosa-circle-members-networking-mixer-5517
END:VEVENT

END:VCALENDAR
