BEGIN:VCALENDAR
VERSION:2.0
PRODID:-//ChamberMaster//Event Calendar 2.0//EN
METHOD:PUBLISH
X-PUBLISHED-TTL:P3D
REFRESH-INTERVAL:P3D
CALSCALE:GREGORIAN
BEGIN:VEVENT
DTSTART:20241220T020000Z
DTEND:20241220T043000Z
X-MICROSOFT-CDO-ALLDAYEVENT:FALSE
SUMMARY:HERmosa Circle Holiday Party Rhinestones and Reindeer
DESCRIPTION:Let's Ring in the holiday season togetHER!! Sip\, Shop & Connect Thursday December 19th 6pm-830pm Fee $10 At the door $15 Light snacks\, drinks and connection included The Bungalow is our Host!! RSVP by December 12th
X-ALT-DESC;FMTTYPE=text/html:Let&#39\;s Ring in the holiday season togetHER!! Sip\, Shop &amp\; Connect Thursday December 19th 6pm-830pm Fee $10 At the door $15 Light snacks\, drinks and connection included The Bungalow is our Host!! RSVP by December 12th
LOCATION:The Bungalow 52 11th Street\, Hermosa Beach
UID:e.2438.11016
SEQUENCE:3
DTSTAMP:20260422T173734Z
URL:https://business.hbchamber.net/events/details/hermosa-circle-holiday-party-rhinestones-and-reindeer-11016
END:VEVENT

END:VCALENDAR
