BEGIN:VCALENDAR
VERSION:2.0
PRODID:-//ChamberMaster//Event Calendar 2.0//EN
METHOD:PUBLISH
X-PUBLISHED-TTL:P3D
REFRESH-INTERVAL:P3D
CALSCALE:GREGORIAN
BEGIN:VEVENT
DTSTART:20240322T013000Z
DTEND:20240322T040000Z
X-MICROSOFT-CDO-ALLDAYEVENT:FALSE
SUMMARY:Hermosa Brewing/ Uncorked Wine Pairing/ Four Course Dinner
DESCRIPTION:Join us for an evening of Chef Aaron's delicious delights paired with wines curated by Uncorked's Jeff Bonafede. Find out more\, purchase tickets here.
X-ALT-DESC;FMTTYPE=text/html:Join us for an evening of Chef Aaron&#39\;s delicious delights paired with wines curated by Uncorked&#39\;s Jeff Bonafede. Find out more\, purchase tickets here.
LOCATION:Hermosa Brewing. 1342 Hermosa Ave
UID:e.2438.9420
SEQUENCE:3
DTSTAMP:20260419T145520Z
URL:https://business.hbchamber.net/events/details/hermosa-brewing-uncorked-wine-pairing-four-course-dinner-9420
END:VEVENT

END:VCALENDAR
