BEGIN:VCALENDAR
VERSION:2.0
PRODID:-//ChamberMaster//Event Calendar 2.0//EN
METHOD:PUBLISH
X-PUBLISHED-TTL:P3D
REFRESH-INTERVAL:P3D
CALSCALE:GREGORIAN
BEGIN:VEVENT
DTSTART:20211021T010000Z
DTEND:20211021T020000Z
X-MICROSOFT-CDO-ALLDAYEVENT:FALSE
SUMMARY:Hermosa Beach State of The City Address with Mayor Justin Massey
DESCRIPTION:SAVE THE DATE:  Mayor Justin Massey will host the 2021 Hermosa Beach State of The City Address the evening of October 20\, 2021 beginning at 6:00 P.M.
X-ALT-DESC;FMTTYPE=text/html:<p style="box-sizing: border-box\; margin: 0px 0px 1em\; color: rgb(21\, 27\, 33)\; font-family: Cabin\, sans-serif\; font-size: 18px\; background-color: rgb(247\, 246\, 244)\;"><span style="box-sizing: border-box\; font-weight: 700\;">SAVE THE DATE:&nbsp\;</span>&nbsp\;Mayor Justin Massey will host the 2021 Hermosa Beach State of The City Address the evening of October 20\, 2021 beginning at 6:00 P.M.</p>\n\n<p style="box-sizing: border-box\; margin: 0px 0px 1em\; color: rgb(21\, 27\, 33)\; font-family: Cabin\, sans-serif\; font-size: 18px\; background-color: rgb(247\, 246\, 244)\;">&nbsp\;</p>\n
LOCATION:LIVESTREAM: City YouTube Channel City Website Local Access Channels 8 and 31 IN-PERSON: Council Chambers\, 1315 Valley Drive\, Hermosa Beach 90254 (Face coverings required) Please RSVP to anny@hermosabeach.gov
UID:e.2438.4685
SEQUENCE:3
DTSTAMP:20260421T222457Z
URL:https://business.hbchamber.net/events/details/hermosa-beach-state-of-the-city-address-with-mayor-justin-massey-4685
END:VEVENT

END:VCALENDAR
