BEGIN:VCALENDAR
VERSION:2.0
PRODID:-//ChamberMaster//Event Calendar 2.0//EN
METHOD:PUBLISH
X-PUBLISHED-TTL:P3D
REFRESH-INTERVAL:P3D
CALSCALE:GREGORIAN
BEGIN:VEVENT
DTSTART;VALUE=DATE:20250611
DTEND;VALUE=DATE:20250616
TRANSP:TRANSPARENT
X-MICROSOFT-CDO-ALLDAYEVENT:TRUE
SUMMARY:Hermosa Beach Pride 2025
DESCRIPTION:We're back for our 5th Annual Hermosa Beach Pride Festival hosted in the heart of Hermosa on the third weekend in June! \n\n\n\nThis weekend will be packed with events for all ages and identities! So bring your friends\, kids\, and allies down to the beach and help us celebrate PRIDE in Hermosa! \n\n\n\nFor a detailed schedule of the weekend visit hbpride.org/events/hermosa-beach-pride-2025. \n\n\n\nWEDNESDAY\, JUNE 11\n\n	Pride Run with Hermosa Run Club\n	\n		   6:30pm by the surfer statue on Hermosa Beach Pier\n		Details here: https://hbpride.org/events/pride-x-hermosa-run-club-2025 \n		\n			Free event\; donations appreciated   \n		\n		\n	\n	\n\nTHURSDAY\, JUNE 12\n\n\n	Karaoke Night\n\n	\n		   8:00pm\n		Tower 12\, 53 Pier Avenue\, Hermosa Beach\, CA 90254\n	\n	\n\nFRIDAY\, JUNE 13\n\n\n	Kick Off Party*\n\n	\n		Mix and mingle with other South Bay queers and allies at our Hermosa Pride Kickoff Party! Bring your dancing shoes and come early if you want to participate in some meet & greet games. \n		  8:00pm - 11:00pm\n		  The Studio\, 636 Cypress Avenue\, Hermosa Beach CA 90254\n		   Purchase tickets here: https://partiful.com/e/sY1DnhAILm2UYozVfssm\n		Details here: https://hbpride.org/events/pride-kick-off-party-2025 \n		*This event is for adults age 21+ only.\n	\n	\n\nSATURDAY\, JUNE 14\n\n\n	Mornin' Meet Up (North or South Hermosa)\n\n	\n		Grab breakfast with friends and family before we gather up and march down the strand to join groups at the Pride Lifeguard Tower. Wear pride gear! We will also be passing out pride accessories\, flags and have a craft station for poster-making.\n		  11:00am - 12:30pm \n		\n			  North: North End Bar & Grill or Gitana Cafe\n			 South: BOLT Hermosa Beach\n		\n		\n		Details here: https://hbpride.org/events/pride-morning-meetup-2025 \n	\n	\n	Parade and Group Photo at the Beach\n	\n		Follow the rainbow down The Strand! Our Morning Meetups will wrap up around noon and begin walking (parading!) together towards the Pride Lifeguard Tower from each meetup location. \n		\n			  12:20pm Parade on The Strand towards the Pride Lifeguard Tower\n			  12:30pm - Group Photo at Pride Lifeguard Tower (just North of the Hermosa Pier)\n		\n		\n		Details here: https://hbpride.org/events/pride-parade-group-photo-2025 \n	\n	\n	Daytime Activities around town\n	\n		Community Beach Day\n		\n			  1:00pm - 3:00pm\n			  Find us at the Pride Lifeguard Tower (just North of the Hermosa Pier)\n			Details here: https://hbpride.org/events/pride-community-beach-day-2025\n		\n		\n		Color Me Proud: Pride Craft Event\n		\n			  4:00pm - 7:00pm\n			  Venue: Gum Tree Shop & Cafe\, 238 Pier Ave\, Hermosa Beach\, CA 90254\n			Details here: https://hbpride.org/events/pride-craft-event-2025-3mkhl\n			   Purchase tickets here: https://partiful.com/e/YdVHeuMsueefBtsavToM\n		\n		\n		Pop into Patrick Molloy's from 1:00pm - 7:00pm\, our designated bar for Pride\, if you're looking for a different vibe from Community Beach Day or the Craft Event!\n	\n	\n	Slay by the Bay: Drag Show & Fundraiser* (This is the main event!)\n	\n		Doors open at 7:00pm. Live music\, mingling and silent auction before the Drag Show starts at 9:00pm.\n		Details here: https://hbpride.org/events/slay-by-the-bay-drag-show-fundraiser-2025 \n		\n			  7:00pm - 11:00pm\n			  Venue: Saint Rocke\, 142 Pacific Coast Hwy\, Hermosa Beach\, CA 90254\n			   Purchase tickets here: https://www.etix.com/ticket/p/66492205/slay-by-the-bayhermosa-beach-pride-drag-show-hermosa-beach-saint-rocke\n			*This event is for adults age 21+ only.\n		\n		\n	\n	\n	After Party at Artesia Bar*\n	\n		Once the drag show winds down\, we encourage you to keep the party going with us!\n		Details here: https://hbpride.org/events/pride-after-party-2025\n		\n			  11:00pm - 2:00am\n			  Venue: Artesia Bar\, 1995 Artesia Blvd\, Redondo Beach\, CA 90278\n			*This event is for adults age 21+ only.\n		\n		\n	\n	\n\nSUNDAY\, JUNE 15\n\n\n	Beach Werkout by the Pride Tower\n\n	\n		Join us on the beach Sunday morning for Wellness activities\n		Details: https://hbpride.org/events/pride-beach-wellness-2025 \n		\n			  9:00am - 10:00am\n			  Find us at the Pride Lifeguard Tower (just North of the Hermosa Pier)\n		\n		\n	\n	\n	Sunset Vibes Silent Disco has been canceled due to logistical conflicts. We will host a silent disco in the future!
X-ALT-DESC;FMTTYPE=text/html:We&rsquo\;re back for our 5th Annual Hermosa Beach Pride Festival hosted in the heart of Hermosa on the third weekend in June!&nbsp\;<br />\n<br />\nThis weekend will be packed with events for all ages and identities! So bring your friends\, kids\, and allies down to the beach and help us celebrate PRIDE in Hermosa!&nbsp\;<br />\n<br />\nFor a detailed schedule of the weekend visit&nbsp\;<a href="https://hbpride.org/events/hermosa-beach-pride-2025">hbpride.org/events/hermosa-beach-pride-2025</a>.&nbsp\;<br />\n<br />\n<strong>WEDNESDAY\, JUNE 11</strong>\n<ul>\n	<li><strong>Pride Run with Hermosa Run Club</strong>\n	<ul>\n		<li>&#9200\;&nbsp\; 6:30pm by the surfer statue on Hermosa Beach Pier</li>\n		<li>Details here:&nbsp\;<a href="https://hbpride.org/events/pride-x-hermosa-run-club-2025">https://hbpride.org/events/pride-x-hermosa-run-club-2025&nbsp\;</a>\n		<ul>\n			<li>Free event\; donations appreciated &#129782\;&#127995\;</li>\n		</ul>\n		</li>\n	</ul>\n	</li>\n</ul>\n<strong>THURSDAY\, JUNE 12</strong>\n\n<ul>\n	<li><strong>Karaoke Night</strong>\n\n	<ul>\n		<li>&#9200\;&nbsp\; 8:00pm</li>\n		<li>Tower 12\, 53 Pier Avenue\, Hermosa Beach\, CA 90254</li>\n	</ul>\n	</li>\n</ul>\n<strong>FRIDAY\, JUNE 13</strong>\n\n<ul>\n	<li><strong>Kick Off Party*</strong>\n\n	<ul>\n		<li>Mix and mingle with other South Bay queers and allies at our Hermosa Pride Kickoff Party! Bring your dancing shoes and come early if you want to participate in some meet &amp\; greet games.&nbsp\;</li>\n		<li>&#9200\; 8:00pm - 11:00pm</li>\n		<li>&#128205\; The Studio\, 636 Cypress Avenue\, Hermosa Beach CA 90254</li>\n		<li>&#127903\;&#65039\; Purchase tickets here:&nbsp\;<a href="https://partiful.com/e/sY1DnhAILm2UYozVfssm">https://partiful.com/e/sY1DnhAILm2UYozVfssm</a></li>\n		<li>Details here:&nbsp\;<a href="https://hbpride.org/events/pride-kick-off-party-2025">https://hbpride.org/events/pride-kick-off-party-2025</a>&nbsp\;</li>\n		<li><em>*This event is for adults age 21+ only.</em></li>\n	</ul>\n	</li>\n</ul>\n<strong>SATURDAY\, JUNE 14</strong>\n\n<ul>\n	<li><strong>Mornin&rsquo\; Meet Up</strong>&nbsp\;(North or South Hermosa)\n\n	<ul>\n		<li>Grab breakfast with friends and family before we gather up and march down the strand to join groups at the Pride Lifeguard Tower. Wear pride gear! We will also be passing out pride accessories\, flags and have a craft station for poster-making.</li>\n		<li>&#9200\; 11:00am - 12:30pm&nbsp\;\n		<ul>\n			<li>&#128205\; North: North End Bar &amp\; Grill or Gitana Cafe</li>\n			<li>&#128205\;South: BOLT Hermosa Beach</li>\n		</ul>\n		</li>\n		<li>Details here:&nbsp\;<a href="https://hbpride.org/events/pride-morning-meetup-2025">https://hbpride.org/events/pride-morning-meetup-2025&nbsp\;</a></li>\n	</ul>\n	</li>\n	<li><strong>Parade and Group Photo</strong>&nbsp\;at the Beach\n	<ul>\n		<li>Follow the rainbow down The Strand! Our Morning Meetups will wrap up around noon and begin walking (parading!) together towards the Pride Lifeguard Tower from each meetup location.&nbsp\;\n		<ul>\n			<li>&#9200\; 12:20pm Parade on The Strand towards the Pride Lifeguard Tower</li>\n			<li>&#9200\; 12:30pm - Group Photo at Pride Lifeguard Tower (just North of the Hermosa Pier)</li>\n		</ul>\n		</li>\n		<li>Details here:&nbsp\;<a href="https://hbpride.org/events/pride-parade-group-photo-2025">https://hbpride.org/events/pride-parade-group-photo-2025&nbsp\;</a></li>\n	</ul>\n	</li>\n	<li><strong>Daytime Activities around town</strong>\n	<ul>\n		<li><strong>Community Beach Day</strong>\n		<ul>\n			<li>&#9200\; 1:00pm - 3:00pm</li>\n			<li>&#128205\; Find us at the Pride Lifeguard Tower (just North of the Hermosa Pier)</li>\n			<li>Details here:&nbsp\;<a href="https://hbpride.org/events/pride-community-beach-day-2025">https://hbpride.org/events/pride-community-beach-day-2025</a></li>\n		</ul>\n		</li>\n		<li><strong>Color Me Proud: Pride Craft Event</strong>\n		<ul>\n			<li>&#9200\; 4:00pm - 7:00pm</li>\n			<li>&#128205\; Venue: Gum Tree Shop &amp\; Cafe\, 238 Pier Ave\, Hermosa Beach\, CA 90254</li>\n			<li>Details here:&nbsp\;<a href="https://hbpride.org/events/pride-craft-event-2025-3mkhl">https://hbpride.org/events/pride-craft-event-2025-3mkhl</a></li>\n			<li>&#127903\;&#65039\; Purchase tickets here:&nbsp\;<a href="https://partiful.com/e/YdVHeuMsueefBtsavToM">https://partiful.com/e/YdVHeuMsueefBtsavToM</a></li>\n		</ul>\n		</li>\n		<li>Pop into&nbsp\;<strong>Patrick Molloy&rsquo\;s</strong>&nbsp\;from 1:00pm - 7:00pm\, our designated bar for Pride\, if you&rsquo\;re looking for a different vibe from Community Beach Day or the Craft Event!</li>\n	</ul>\n	</li>\n	<li><strong>Slay by the Bay: Drag Show &amp\; Fundraiser*</strong>&nbsp\;(This is the main event!)\n	<ul>\n		<li>Doors open at 7:00pm. Live music\, mingling and silent auction before the Drag Show starts at 9:00pm.</li>\n		<li>Details here:&nbsp\;<a href="https://hbpride.org/events/slay-by-the-bay-drag-show-fundraiser-2025">https://hbpride.org/events/slay-by-the-bay-drag-show-fundraiser-2025&nbsp\;</a>\n		<ul>\n			<li>&#9200\; 7:00pm - 11:00pm</li>\n			<li>&#128205\; Venue: Saint Rocke\, 142 Pacific Coast Hwy\, Hermosa Beach\, CA 90254</li>\n			<li>&#127903\;&#65039\; Purchase tickets here:&nbsp\;<a href="https://www.etix.com/ticket/p/66492205/slay-by-the-bayhermosa-beach-pride-drag-show-hermosa-beach-saint-rocke">https://www.etix.com/ticket/p/66492205/slay-by-the-bayhermosa-beach-pride-drag-show-hermosa-beach-saint-rocke</a></li>\n			<li><em>*This event is for adults age 21+ only.</em></li>\n		</ul>\n		</li>\n	</ul>\n	</li>\n	<li><strong>After Party at Artesia Bar*</strong>\n	<ul>\n		<li>Once the drag show winds down\, we encourage you to keep the party going with us!</li>\n		<li>Details here:&nbsp\;<a href="https://hbpride.org/events/pride-after-party-2025">https://hbpride.org/events/pride-after-party-2025</a>\n		<ul>\n			<li>&#9200\; 11:00pm - 2:00am</li>\n			<li>&#128205\; Venue: Artesia Bar\, 1995 Artesia Blvd\, Redondo Beach\, CA 90278</li>\n			<li><em>*This event is for adults age 21+ only.</em></li>\n		</ul>\n		</li>\n	</ul>\n	</li>\n</ul>\n<strong>SUNDAY\, JUNE 15</strong>\n\n<ul>\n	<li><strong>Beach Werkout</strong>&nbsp\;by the Pride Tower\n\n	<ul>\n		<li>Join us on the beach Sunday morning for Wellness activities</li>\n		<li>Details:&nbsp\;<a href="https://hbpride.org/events/pride-beach-wellness-2025">https://hbpride.org/events/pride-beach-wellness-2025&nbsp\;</a>\n		<ul>\n			<li>&#9200\; 9:00am - 10:00am</li>\n			<li>&#128205\; Find us at the Pride Lifeguard Tower (just North of the Hermosa Pier)</li>\n		</ul>\n		</li>\n	</ul>\n	</li>\n	<li><em><strong>Sunset Vibes Silent Disco</strong>&nbsp\;has been canceled due to logistical conflicts. We will host a silent disco in the future!</em></li>\n</ul>\n
LOCATION:
UID:e.2438.12386
SEQUENCE:3
DTSTAMP:20260423T023744Z
URL:https://business.hbchamber.net/events/details/hermosa-beach-pride-2025-12386
END:VEVENT

END:VCALENDAR
