BEGIN:VCALENDAR
VERSION:2.0
PRODID:-//ChamberMaster//Event Calendar 2.0//EN
METHOD:PUBLISH
X-PUBLISHED-TTL:P3D
REFRESH-INTERVAL:P3D
CALSCALE:GREGORIAN
BEGIN:VEVENT
DTSTART:20241206T023000Z
DTEND:20241206T050000Z
X-MICROSOFT-CDO-ALLDAYEVENT:FALSE
SUMMARY:Hermosa Beach Museum Annual Holiday Party
DESCRIPTION:The Hermosa Beach Museum would like to invite our friends\, family\, donors and community members to our annual holiday party. We are excited to celebrate another successful year of growth and learning at the Museum.\n\n\n\nBrush off your go to karaoke song\, and come ready to steal the show\, or ready to simply enjoy some music! We will have some tasty holiday treats\, new merchandise\, and a great holiday spirit to kick off the season!\n\n\n\nNo RSVP necessary - all are welcome!
X-ALT-DESC;FMTTYPE=text/html:The Hermosa Beach Museum would like to invite our friends\, family\, donors and community members to our annual holiday party. We are excited to celebrate another successful year of growth and learning at the Museum.<br />\n<br />\nBrush off your go to karaoke song\, and come ready to steal the show\, or ready to simply enjoy some music! We will have some tasty holiday treats\, new merchandise\, and a great holiday spirit to kick off the season!<br />\n<br />\n<strong>No RSVP necessary - all are welcome!</strong>
LOCATION:Hermosa Beach Museum 710 Pier Ave Hermosa Beach\, CA 90254
UID:e.2438.10799
SEQUENCE:3
DTSTAMP:20260422T174342Z
URL:https://business.hbchamber.net/events/details/hermosa-beach-museum-annual-holiday-party-10799
END:VEVENT

END:VCALENDAR
