BEGIN:VCALENDAR
VERSION:2.0
PRODID:-//ChamberMaster//Event Calendar 2.0//EN
METHOD:PUBLISH
X-PUBLISHED-TTL:P3D
REFRESH-INTERVAL:P3D
CALSCALE:GREGORIAN
BEGIN:VEVENT
DTSTART:20250406T220000Z
DTEND:20250407T000000Z
X-MICROSOFT-CDO-ALLDAYEVENT:FALSE
SUMMARY:Hermosa Beach Museum Annual Donor Celebration
DESCRIPTION:Join the Hermosa Beach Museum for our Annual Donor Celebration! This year's event will be held at Local Collaborative\, located in the historic Bijou Theatre! Join us to celebrate milestones met in 2024\, and for a presentation on what we have planned for 2025. Thank you to Tower12 for sponsoring this event\, and to Local Collaborative for hosting.
X-ALT-DESC;FMTTYPE=text/html:Join the Hermosa Beach Museum for our Annual Donor Celebration! This year&#39\;s event will be held at Local Collaborative\, located in the historic Bijou Theatre! Join us to celebrate milestones met in 2024\, and for a presentation on what we have planned for 2025. Thank you to Tower12 for sponsoring this event\, and to Local Collaborative for hosting.
LOCATION:Local Collaborative 1221 Hermosa Ave Hermosa Beach\, CA 90254
UID:e.2438.11431
SEQUENCE:3
DTSTAMP:20260422T211502Z
URL:https://business.hbchamber.net/events/details/hermosa-beach-museum-annual-donor-celebration-11431
END:VEVENT

END:VCALENDAR
