BEGIN:VCALENDAR
VERSION:2.0
PRODID:-//ChamberMaster//Event Calendar 2.0//EN
METHOD:PUBLISH
X-PUBLISHED-TTL:P3D
REFRESH-INTERVAL:P3D
CALSCALE:GREGORIAN
BEGIN:VEVENT
DTSTART:20220429T230000Z
DTEND:20220502T030000Z
X-MICROSOFT-CDO-ALLDAYEVENT:FALSE
SUMMARY:Hermosa Beach Little League Night at the Ballpark
DESCRIPTION:Hermosa Beach Little League hosts a small concert at the park followed by a movie on the lawn. HBLL families are then welcome to camp in tents on the field.
X-ALT-DESC;FMTTYPE=text/html:<div class="detail-content" style="box-sizing: border-box\; padding: 10px 0px\; clear: left\; zoom: 1\; color: rgb(21\, 27\, 33)\; font-family: Cabin\, sans-serif\; font-size: 18px\; background-color: rgb(247\, 246\, 244)\;">\n<p style="box-sizing: border-box\; margin: 0px 0px 1em\; text-align: center\;"><span itemprop="description" style="box-sizing: border-box\;">Hermosa Beach Little League hosts a small concert at the park followed by a movie on the lawn. HBLL families are then welcome to camp in tents on the field.&nbsp\;</span></p>\n</div>\n
LOCATION:Clark Field 861 Valley Drive Hermosa Beach\, California 90254
UID:e.2438.5402
SEQUENCE:3
DTSTAMP:20260421T092413Z
URL:https://business.hbchamber.net/events/details/hermosa-beach-little-league-night-at-the-ballpark-5402
END:VEVENT

END:VCALENDAR
