BEGIN:VCALENDAR
VERSION:2.0
PRODID:-//ChamberMaster//Event Calendar 2.0//EN
METHOD:PUBLISH
X-PUBLISHED-TTL:P3D
REFRESH-INTERVAL:P3D
CALSCALE:GREGORIAN
BEGIN:VEVENT
DTSTART:20250503T200000Z
DTEND:20250504T050000Z
X-MICROSOFT-CDO-ALLDAYEVENT:FALSE
SUMMARY:Hermosa Beach Little League Night at the Ballpark
DESCRIPTION:Hermosa Beach Little League will host the annual Night at the Ballpark event\, which provides family friendly entertainment and a sleepover on Clark Field.\n\n\n\nFor more information\, visit www.hermosabaseball.com.
X-ALT-DESC;FMTTYPE=text/html:Hermosa Beach Little League will host the annual Night at the Ballpark event\, which provides family friendly entertainment and a sleepover on Clark Field.<br />\n<br />\nFor more information\, visit <a href="http://www.hermosabaseball.com">www.hermosabaseball.com</a>.
LOCATION:Clark Field 861 Valley Drive Hermosa Beach\, California 90254
UID:e.2438.11564
SEQUENCE:3
DTSTAMP:20260422T232059Z
URL:https://business.hbchamber.net/events/details/hermosa-beach-little-league-night-at-the-ballpark-11564
END:VEVENT

END:VCALENDAR
