BEGIN:VCALENDAR
VERSION:2.0
PRODID:-//ChamberMaster//Event Calendar 2.0//EN
METHOD:PUBLISH
X-PUBLISHED-TTL:P3D
REFRESH-INTERVAL:P3D
CALSCALE:GREGORIAN
BEGIN:VEVENT
DTSTART:20250626T010000Z
DTEND:20250626T053000Z
X-MICROSOFT-CDO-ALLDAYEVENT:FALSE
SUMMARY:Hermosa Beach City School District Board Meeting
DESCRIPTION:A special School Board meeting has been scheduled for June 25\, 2025 at the Hermosa Beach City Council Chambers. Closed Session begins at 5:00 PM\, followed by an Open Session at 6:00 PM. Meeting dates and times may change. The public is welcome to attend these open meetings. To address the board on any agenda items or other business\, please complete a special card available at the meeting.\n\n\n\nThe school board meetings are broadcast live on Spectrum Cable Channel 8\,  Frontier Channel 31\, and the HBCSD YouTube channel. You can also watch the meetings live online via the City of Hermosa Beach's YouTube Channel. Past school board meetings can be viewed on our Board Meeting Archives web page.\n\n\n\nThe full board agenda is available for viewing at the school district office and at our school site offices from 7:30 AM to 4:00 PM.
X-ALT-DESC;FMTTYPE=text/html:A special School Board meeting has been scheduled for June 25\, 2025 at the Hermosa Beach City Council Chambers. Closed Session begins at 5:00 PM\, followed by an Open Session at 6:00 PM. Meeting dates and times may change. The public is welcome to attend these open meetings. To address the board on any agenda items or other business\, please complete a special card available at the meeting.<br />\n<br />\nThe school board meetings are broadcast live on Spectrum Cable Channel 8\,&nbsp\; Frontier Channel 31\, and the <a href="https://www.youtube.com/channel/UCOG9Uavd8zYi6qZEyS8jsGg">HBCSD YouTube channel</a>. You can also watch the meetings live online via the <a href="https://www.youtube.com/@CityofHermosaBeach90254">City of Hermosa Beach&#39\;s YouTube Channel</a>. Past school board meetings can be viewed on our <a href="https://www.hbcsd.org/apps/pages/index.jsp?uREC_ID=2165923&amp\;type=d&amp\;pREC_ID=2207732">Board Meeting Archives</a> web page.<br />\n<br />\nThe full board agenda is available for viewing at the school district office and at our school site offices from 7:30 AM to 4:00 PM.
LOCATION:City Hall 1315 Valley Drive Hermosa Beach\, California 90254
UID:e.2438.12433
SEQUENCE:3
DTSTAMP:20260423T004303Z
URL:https://business.hbchamber.net/events/details/hermosa-beach-city-school-district-board-meeting-12433
END:VEVENT

END:VCALENDAR
