BEGIN:VCALENDAR
VERSION:2.0
PRODID:-//ChamberMaster//Event Calendar 2.0//EN
METHOD:PUBLISH
X-PUBLISHED-TTL:P3D
REFRESH-INTERVAL:P3D
CALSCALE:GREGORIAN
BEGIN:VEVENT
DTSTART:20240324T010000Z
DTEND:20240324T060000Z
X-MICROSOFT-CDO-ALLDAYEVENT:FALSE
SUMMARY:Hearts of Hermosa
DESCRIPTION:Join us to celebrate under the stars in true Bond style \n\nWe're going ALL IN to transform our humble community center parking lot into le Casino Monte-Carlo with dinner and drinks from all our neighborhood favorites\, live and silent auctions\, plus a DJ and dancing.
X-ALT-DESC;FMTTYPE=text/html:Join us to celebrate under the stars in true Bond style&hellip\;<br />\nWe&rsquo\;re going ALL IN to transform our humble community center parking lot into le Casino Monte-Carlo&mdash\;with dinner and drinks from all our neighborhood favorites\, live and silent auctions\, plus a DJ and dancing.&nbsp\;
LOCATION:Hermosa Beach Community Center Address: 710 Pier Ave\, Hermosa Beach\, CA 90254
UID:e.2438.9229
SEQUENCE:3
DTSTAMP:20260419T145632Z
URL:https://business.hbchamber.net/events/details/hearts-of-hermosa-9229
END:VEVENT

END:VCALENDAR
