BEGIN:VCALENDAR
VERSION:2.0
PRODID:-//ChamberMaster//Event Calendar 2.0//EN
METHOD:PUBLISH
X-PUBLISHED-TTL:P3D
REFRESH-INTERVAL:P3D
CALSCALE:GREGORIAN
BEGIN:VEVENT
DTSTART:20250124T190000Z
DTEND:20250124T220000Z
X-MICROSOFT-CDO-ALLDAYEVENT:FALSE
SUMMARY:Headshot Pop-up with Danny by the Sea
DESCRIPTION:Use this for a headshot refresh. 20 minutes\, 4 edited images. Shot on a white backdrop\, with soft\, natural looking strobe light.\n\nCome ready to shoot\, I will make sure you are relaxed and at ease in front of the camera for your best shot.\n\nEmail me with any questions or to add-on extra time to also shoot outside.
X-ALT-DESC;FMTTYPE=text/html:Use this for a headshot refresh.&nbsp\;20 minutes\, 4 edited images. Shot on a white backdrop\, with soft\, natural looking strobe light.<br />\nCome ready to shoot\, I will make sure you are relaxed and at ease in front of the camera for your best shot.<br />\nEmail me with any questions or to add-on extra time to also shoot outside.
LOCATION:The Studio 636 Cypress Hermosa Beach\, CA 90254
UID:e.2438.11396
SEQUENCE:3
DTSTAMP:20260420T182328Z
URL:https://business.hbchamber.net/events/details/headshot-pop-up-with-danny-by-the-sea-11396
END:VEVENT

END:VCALENDAR
