BEGIN:VCALENDAR
VERSION:2.0
PRODID:-//ChamberMaster//Event Calendar 2.0//EN
METHOD:PUBLISH
X-PUBLISHED-TTL:P3D
REFRESH-INTERVAL:P3D
CALSCALE:GREGORIAN
BEGIN:VEVENT
DTSTART:20250109T180000Z
DTEND:20250110T000000Z
X-MICROSOFT-CDO-ALLDAYEVENT:FALSE
SUMMARY:HbPD Blood Drive
DESCRIPTION:Click HERE to schedule an appointment.
X-ALT-DESC;FMTTYPE=text/html:Click&nbsp\;<a href="https://www.redcrossblood.org/give.html/find-drive">HERE</a> to schedule an appointment.&nbsp\;
LOCATION:Council Chambers 1315 Valley Drive Hermosa Beach\, CA 90254
UID:e.2438.11134
SEQUENCE:3
DTSTAMP:20260422T140412Z
URL:https://business.hbchamber.net/events/details/hbpd-blood-drive-11134
END:VEVENT

END:VCALENDAR
