BEGIN:VCALENDAR
VERSION:2.0
PRODID:-//ChamberMaster//Event Calendar 2.0//EN
METHOD:PUBLISH
X-PUBLISHED-TTL:P3D
REFRESH-INTERVAL:P3D
CALSCALE:GREGORIAN
BEGIN:VEVENT
DTSTART:20240412T010000Z
DTEND:20240412T020000Z
X-MICROSOFT-CDO-ALLDAYEVENT:FALSE
SUMMARY:HBCSD Community Meeting #1
DESCRIPTION:Join Us and Make Your Voice Be Heard! Improving Our Hermosa\n\nSchools in 2024-2025. We invite you to be a part of shaping the future of our district's needs by attending our upcoming community meetings. Come share your ideas\, concerns\, and suggestions on Classroom Modernization &\n\nTechnology\, Energy Efficiency Improvements\, Campus Safety\, and\n\nAthletic Facilities & Playground.
X-ALT-DESC;FMTTYPE=text/html:Join Us and Make Your Voice Be Heard! Improving Our Hermosa<br />\nSchools in 2024-2025. We invite you to be a part of shaping the future of our district&#39\;s needs by attending our upcoming community meetings. Come share your ideas\, concerns\, and suggestions on Classroom Modernization &amp\;<br />\nTechnology\, Energy Efficiency Improvements\, Campus Safety\, and<br />\nAthletic Facilities &amp\; Playground.
LOCATION:Hermosa Valley School MPR 1645 Valley Dr\, Hermosa Beach\, CA 90254
UID:e.2438.9424
SEQUENCE:3
DTSTAMP:20260421T135353Z
URL:https://business.hbchamber.net/events/details/hbcsd-community-meeting-1-9424
END:VEVENT

END:VCALENDAR
