BEGIN:VCALENDAR
VERSION:2.0
PRODID:-//ChamberMaster//Event Calendar 2.0//EN
METHOD:PUBLISH
X-PUBLISHED-TTL:P3D
REFRESH-INTERVAL:P3D
CALSCALE:GREGORIAN
BEGIN:VEVENT
DTSTART:20250517T170000Z
DTEND:20250517T210000Z
X-MICROSOFT-CDO-ALLDAYEVENT:FALSE
SUMMARY:HB Lawn Bowling Club Open House
DESCRIPTION:Come on down to our Open House May 17th for Free Lessons\, Pizza\, Beverages and special HBLBC Membership Packages!
X-ALT-DESC;FMTTYPE=text/html:Come on down to our Open House May 17th for Free Lessons\, Pizza\, Beverages and special HBLBC Membership Packages!
LOCATION:Hermosa Beach Lawn Bowling Club 861 Valley Dr Hermosa Beach\, CA 90254
UID:e.2438.11597
SEQUENCE:3
DTSTAMP:20260422T224825Z
URL:https://business.hbchamber.net/events/details/hb-lawn-bowling-club-open-house-11597
END:VEVENT

END:VCALENDAR
