BEGIN:VCALENDAR
VERSION:2.0
PRODID:-//ChamberMaster//Event Calendar 2.0//EN
METHOD:PUBLISH
X-PUBLISHED-TTL:P3D
REFRESH-INTERVAL:P3D
CALSCALE:GREGORIAN
BEGIN:VEVENT
DTSTART:20250427T220000Z
DTEND:20250428T000000Z
X-MICROSOFT-CDO-ALLDAYEVENT:FALSE
SUMMARY:Harlem Wizards Basketball Game
DESCRIPTION:The Harlem Wizards are coming to Redondo Beach Cheer on the Wizards and the fun-loving team of our own local Heros:Redondo Beach's finest Firefighters\, Police Officers\, Teachers & Principals!Get your tickets now for a guaranteed afternoon of laughter and slam dunks. Don't WAIT to get your tickets for the world-famous Harlem Wizards right here in you backyard!Skip the LA traffic and parking headaches -Bring the Whole Family for an affordable andunforgettable Sunday afternoon of hoops magic in the South Bay. In Partnership with Parras PTSA
X-ALT-DESC;FMTTYPE=text/html:The Harlem Wizards are coming to Redondo Beach Cheer on the Wizards and the fun-loving team of our own local Heros:Redondo Beach&rsquo\;s finest Firefighters\, Police Officers\, Teachers &amp\; Principals!Get your tickets now for a guaranteed afternoon of laughter and slam dunks. Don&rsquo\;t WAIT to get your tickets for the world-famous Harlem Wizards right here in you backyard!Skip the LA traffic and parking headaches -Bring the Whole Family for an affordable andunforgettable Sunday afternoon of hoops magic in the South Bay. In Partnership with Parras PTSA
LOCATION:Redondo Union High School Gym
UID:e.2438.11586
SEQUENCE:3
DTSTAMP:20260422T210202Z
URL:https://business.hbchamber.net/events/details/harlem-wizards-basketball-game-11586
END:VEVENT

END:VCALENDAR
