BEGIN:VCALENDAR
VERSION:2.0
PRODID:-//ChamberMaster//Event Calendar 2.0//EN
METHOD:PUBLISH
X-PUBLISHED-TTL:P3D
REFRESH-INTERVAL:P3D
CALSCALE:GREGORIAN
BEGIN:VEVENT
DTSTART:20250627T010000Z
DTEND:20250627T030000Z
X-MICROSOFT-CDO-ALLDAYEVENT:FALSE
SUMMARY:Happy Hour with History: The Wonder of Birds
DESCRIPTION:If you spend time at the beach this summer\, you'll be no stranger to the variety of gulls\, pelicans\, and even parrots that call the South Bay home. To learn more about the birds that we share the beach with\, join us at the Hermosa Beach Museum at 6pm on Thursday\, June 26\, for birding expert Bob Shanman's Happy Hour with History on The Wonder of Birds!\n\n\n\nBob Shanman leads bird walks at the Ballona Wetlands\, fundraises for South Bay Wildlife Rehabilitation\, and ran a Wild Birds Unlimited Franchise for 28 years. Don't miss this opportunity to hear interesting stories and facts about the birds in our backyard and around the world!
X-ALT-DESC;FMTTYPE=text/html:If you spend time at the beach this summer\, you&rsquo\;ll be no stranger to the variety of gulls\, pelicans\, and even parrots that call the South Bay home. To learn more about the birds that we share the beach with\, join us at the Hermosa Beach Museum at 6pm on Thursday\, June 26\, for birding expert Bob Shanman&rsquo\;s Happy Hour with History on The Wonder of Birds!<br />\n<br />\nBob Shanman leads bird walks at the Ballona Wetlands\, fundraises for South Bay Wildlife Rehabilitation\, and ran a Wild Birds Unlimited Franchise for 28 years. Don&rsquo\;t miss this opportunity to hear interesting stories and facts about the birds in our backyard and around the world!
LOCATION:Hermosa Beach Museum 710 Pier Ave Hermosa Beach\, CA
UID:e.2438.12465
SEQUENCE:3
DTSTAMP:20260423T004425Z
URL:https://business.hbchamber.net/events/details/happy-hour-with-history-the-wonder-of-birds-12465
END:VEVENT

END:VCALENDAR
