BEGIN:VCALENDAR
VERSION:2.0
PRODID:-//ChamberMaster//Event Calendar 2.0//EN
METHOD:PUBLISH
X-PUBLISHED-TTL:P3D
REFRESH-INTERVAL:P3D
CALSCALE:GREGORIAN
BEGIN:VEVENT
DTSTART:20250523T010000Z
DTEND:20250523T030000Z
X-MICROSOFT-CDO-ALLDAYEVENT:FALSE
SUMMARY:Happy Hour with History: South Bay Aerospace Origins
DESCRIPTION:Join Hermosa Beach Museum Board Member Mark Shoemaker for a discussion of California's aviation industry from the early twentieth century to today's largest aerospace companies! \n\n\n\nIn the early twentieth century\, the spectacle and utility of aircraft brought the nascent industry to the South Bay. As zeppelin landings\, air races of the 1920s\, and Hollywood flair built public excitement around air travel\, the beginnings of the largest and most densely-concentrated aerospace industry in the world took shape in Southern California.\n\n\n\nTo hear about the key players\, events\, and stories of aviation's inception\, join us for what is sure to be a memorable Happy Hour with History at the Hermosa Beach Museum!
X-ALT-DESC;FMTTYPE=text/html:Join Hermosa Beach Museum Board Member Mark Shoemaker for a discussion of California&rsquo\;s aviation industry from the early twentieth century to today&rsquo\;s largest aerospace companies!&#8203\;<br />\n<br />\nIn the early twentieth century\, the spectacle and utility of aircraft brought the nascent industry to the South Bay. As zeppelin landings\, air races of the 1920s\, and Hollywood flair built public excitement around air travel\, the beginnings of the largest and most densely-concentrated aerospace industry in the world took shape in Southern California.<br />\n<br />\nTo hear about the key players\, events\, and stories of aviation&rsquo\;s inception\, join us for what is sure to be a memorable Happy Hour with History at the Hermosa Beach Museum!&#8203\;
LOCATION:Hermosa Beach Museum 710 Pier Ave Hermosa Beach\, CA
UID:e.2438.12227
SEQUENCE:3
DTSTAMP:20260422T225142Z
URL:https://business.hbchamber.net/events/details/happy-hour-with-history-south-bay-aerospace-origins-12227
END:VEVENT

END:VCALENDAR
