BEGIN:VCALENDAR
VERSION:2.0
PRODID:-//ChamberMaster//Event Calendar 2.0//EN
METHOD:PUBLISH
X-PUBLISHED-TTL:P3D
REFRESH-INTERVAL:P3D
CALSCALE:GREGORIAN
BEGIN:VEVENT
DTSTART:20220401T013000Z
DTEND:20220401T030000Z
X-MICROSOFT-CDO-ALLDAYEVENT:FALSE
SUMMARY:Happy Hour with History: Punk: Photos from a Fan's Perspective
DESCRIPTION:Join us at the Hermosa Beach Museum on Thursday March 31st at 6:30 PM for a presentation with author Kevin Salk on his latest publication that features photography of early punk rock bands\, taken around the South Bay. The photography captures some of the genre's most important recording artists\, including Black Flag\, Circle Jerks\, Misfits\, Minor Threat and Descendents in a style that has an innocent pure nature\, in spite of the intensity of the performances. A true fan's perspective.\n \n\nYou can pre purchase a copy of Kevin's book in advance with your online ticket that can be picked up at the event. A very limited quantity will be available online\, and at the event!\n \n\n \n\nKNOW BEFORE YOU GO:\n \n\nTicket registration through Eventbrite is required for this event.\n \n\nWe strongly recommend that all attendees wear a mask indoors at the event.\n \n\nHand sanitizer and social distance signage are throughout the galleries.\n \n\nPlease stay home if you are feeling unwell or have been exposed to COVID-19.
X-ALT-DESC;FMTTYPE=text/html:<p dir="ltr" style="line-height:1.2\;margin-top:0pt\;margin-bottom:0pt\;"><span id="docs-internal-guid-e1c88123-7fff-d876-63aa-c867833fc635"><span style="font-size: 10pt\; font-family: Calibri\, sans-serif\; color: rgb(0\, 0\, 0)\; background-color: transparent\; font-variant-numeric: normal\; font-variant-east-asian: normal\; vertical-align: baseline\; white-space: pre-wrap\;">Join us at the Hermosa Beach Museum on Thursday March 31</span><span style="font-size: 10pt\; font-family: Calibri\, sans-serif\; color: rgb(0\, 0\, 0)\; background-color: transparent\; font-variant-numeric: normal\; font-variant-east-asian: normal\; vertical-align: baseline\; white-space: pre-wrap\;"><span style="font-size:0.6em\;vertical-align:super\;">st</span></span><span style="font-size: 10pt\; font-family: Calibri\, sans-serif\; color: rgb(0\, 0\, 0)\; background-color: transparent\; font-variant-numeric: normal\; font-variant-east-asian: normal\; vertical-align: baseline\; white-space: pre-wrap\;"> at 6:30 PM for a presentation with author Kevin Salk on his latest publication that features photography of early punk rock bands\, taken around the South Bay. </span><span style="font-size: 10pt\; font-family: Calibri\, sans-serif\; color: rgb(0\, 0\, 0)\; font-variant-numeric: normal\; font-variant-east-asian: normal\; vertical-align: baseline\; white-space: pre-wrap\;">The photography captures some of the genre&rsquo\;s most important recording artists\, including Black Flag\, Circle Jerks\, Misfits\, Minor Threat and Descendents in a style that has an innocent pure nature\, in spite of the intensity of the performances. A true fan&rsquo\;s perspective.</span></span></p>\n&nbsp\;\n\n<p dir="ltr" style="line-height:1.2\;margin-top:0pt\;margin-bottom:0pt\;"><span id="docs-internal-guid-e1c88123-7fff-d876-63aa-c867833fc635"><span style="font-size: 9pt\; font-family: Calibri\, sans-serif\; color: rgb(0\, 0\, 0)\; font-style: italic\; font-variant-numeric: normal\; font-variant-east-asian: normal\; vertical-align: baseline\; white-space: pre-wrap\;">You can pre purchase a copy of Kevin&#39\;s book in advance with your online ticket that can be picked up at the event. A very limited quantity will be available online\, and at the event!</span></span></p>\n&nbsp\;\n\n<p dir="ltr" style="line-height:1.2\;margin-top:0pt\;margin-bottom:0pt\;"><span id="docs-internal-guid-e1c88123-7fff-d876-63aa-c867833fc635"><span style="font-size: 9pt\; font-family: Calibri\, sans-serif\; color: rgb(0\, 0\, 0)\; background-color: transparent\; font-variant-numeric: normal\; font-variant-east-asian: normal\; vertical-align: baseline\; white-space: pre-wrap\;">&#8203\;</span></span></p>\n\n<p dir="ltr" style="line-height:1.2\;margin-top:0pt\;margin-bottom:0pt\;"><span id="docs-internal-guid-e1c88123-7fff-d876-63aa-c867833fc635"><span style="font-size: 9pt\; font-family: Calibri\, sans-serif\; color: rgb(0\, 0\, 0)\; background-color: transparent\; font-weight: 700\; font-variant-numeric: normal\; font-variant-east-asian: normal\; vertical-align: baseline\; white-space: pre-wrap\;">KNOW BEFORE YOU GO:</span></span></p>\n&nbsp\;\n\n<p dir="ltr" style="line-height:1.2\;margin-top:0pt\;margin-bottom:0pt\;"><span id="docs-internal-guid-e1c88123-7fff-d876-63aa-c867833fc635"><span style="font-size: 9pt\; font-family: Calibri\, sans-serif\; color: rgb(0\, 0\, 0)\; background-color: transparent\; font-variant-numeric: normal\; font-variant-east-asian: normal\; vertical-align: baseline\; white-space: pre-wrap\;">Ticket registration through Eventbrite is required for this event.</span></span></p>\n&nbsp\;\n\n<p dir="ltr" style="line-height:1.2\;margin-top:0pt\;margin-bottom:0pt\;"><span id="docs-internal-guid-e1c88123-7fff-d876-63aa-c867833fc635"><span style="font-size: 9pt\; font-family: Calibri\, sans-serif\; color: rgb(0\, 0\, 0)\; background-color: transparent\; font-variant-numeric: normal\; font-variant-east-asian: normal\; vertical-align: baseline\; white-space: pre-wrap\;">We strongly recommend that all attendees wear a mask indoors at the event.</span></span></p>\n&nbsp\;\n\n<p dir="ltr" style="line-height:1.2\;margin-top:0pt\;margin-bottom:0pt\;"><span id="docs-internal-guid-e1c88123-7fff-d876-63aa-c867833fc635"><span style="font-size: 9pt\; font-family: Calibri\, sans-serif\; color: rgb(0\, 0\, 0)\; background-color: transparent\; font-variant-numeric: normal\; font-variant-east-asian: normal\; vertical-align: baseline\; white-space: pre-wrap\;">Hand sanitizer and social distance signage are throughout the galleries.</span></span></p>\n&nbsp\;\n\n<p dir="ltr" style="line-height:1.2\;margin-top:0pt\;margin-bottom:0pt\;"><span id="docs-internal-guid-e1c88123-7fff-d876-63aa-c867833fc635"><span style="font-size: 9pt\; font-family: Calibri\, sans-serif\; color: rgb(0\, 0\, 0)\; background-color: transparent\; font-variant-numeric: normal\; font-variant-east-asian: normal\; vertical-align: baseline\; white-space: pre-wrap\;">Please stay home if you are feeling unwell or have been exposed to COVID-19.&nbsp\;</span></span></p>\n\n<p dir="ltr" style="line-height:1.2\;margin-top:0pt\;margin-bottom:0pt\;"><span id="docs-internal-guid-e1c88123-7fff-d876-63aa-c867833fc635"><span style="font-size: 9pt\; font-family: Calibri\, sans-serif\; color: rgb(0\, 0\, 0)\; background-color: transparent\; font-variant-numeric: normal\; font-variant-east-asian: normal\; vertical-align: baseline\; white-space: pre-wrap\;">&#8203\;</span></span></p>\n\n<div>&nbsp\;</div>\n
LOCATION:Hermosa Beach Museum 710 Pier Avenue Hermosa Beach\, CA 90254
UID:e.2438.5295
SEQUENCE:3
DTSTAMP:20260421T105845Z
URL:https://business.hbchamber.net/events/details/happy-hour-with-history-punk-photos-from-a-fan-s-perspective-5295
END:VEVENT

END:VCALENDAR
