BEGIN:VCALENDAR
VERSION:2.0
PRODID:-//ChamberMaster//Event Calendar 2.0//EN
METHOD:PUBLISH
X-PUBLISHED-TTL:P3D
REFRESH-INTERVAL:P3D
CALSCALE:GREGORIAN
BEGIN:VEVENT
DTSTART:20241116T180000Z
DTEND:20241116T210000Z
X-MICROSOFT-CDO-ALLDAYEVENT:FALSE
SUMMARY:Hammitt's Hawaiian Holiday Sample Sale
DESCRIPTION:Aloha! Ready for a sweet escape? Join us at Hammitt's Hawaiian Holiday and enjoy 50% off hidden gems and neutral styles. Don't miss out on your last chance to snag something special.\n\n\n\nMahalo\, and we'll see you there!
X-ALT-DESC;FMTTYPE=text/html:Aloha! Ready for a sweet escape? Join us at Hammitt&#39\;s Hawaiian Holiday and enjoy <strong>50% off</strong> hidden gems and neutral styles. Don&rsquo\;t miss out on your last chance to snag something special.<br />\n<br />\nMahalo\, and we&rsquo\;ll see you there!
LOCATION:The Plaza at Manhattan Village 3200 N Sepulveda Blvd Manhattan Beach\, CA 90266
UID:e.2438.10802
SEQUENCE:3
DTSTAMP:20260422T192539Z
URL:https://business.hbchamber.net/events/details/hammitt-s-hawaiian-holiday-sample-sale-10802
END:VEVENT

END:VCALENDAR
