BEGIN:VCALENDAR
VERSION:2.0
PRODID:-//ChamberMaster//Event Calendar 2.0//EN
METHOD:PUBLISH
X-PUBLISHED-TTL:P3D
REFRESH-INTERVAL:P3D
CALSCALE:GREGORIAN
BEGIN:VEVENT
DTSTART:20220422T000000Z
DTEND:20220422T010000Z
X-MICROSOFT-CDO-ALLDAYEVENT:FALSE
SUMMARY:Hammitt Manhattan Beach One Year Anniversary
DESCRIPTION:Join the MB Chamber for a ribbon cutting ceremony in celebration of Hammitt's 1 year Anniversary at their Manhattan Beach location! \n\n\n\nEnjoy bites and bubbly on them after the ceremony!
X-ALT-DESC;FMTTYPE=text/html:Join the MB Chamber for a ribbon cutting ceremony in celebration of Hammitt&#39\;s 1 year Anniversary at their Manhattan Beach location!&nbsp\;<br />\n<br />\nEnjoy bites and bubbly on them after the ceremony!&nbsp\;
LOCATION:Hammitt LA 727 Manhattan Beach Blvd. CA 90266
UID:e.2438.5507
SEQUENCE:3
DTSTAMP:20260421T091558Z
URL:https://business.hbchamber.net/events/details/hammitt-manhattan-beach-one-year-anniversary-5507
END:VEVENT

END:VCALENDAR
