BEGIN:VCALENDAR
VERSION:2.0
PRODID:-//ChamberMaster//Event Calendar 2.0//EN
METHOD:PUBLISH
X-PUBLISHED-TTL:P3D
REFRESH-INTERVAL:P3D
CALSCALE:GREGORIAN
BEGIN:VEVENT
DTSTART:20241101T170000Z
DTEND:20241102T010000Z
X-MICROSOFT-CDO-ALLDAYEVENT:FALSE
SUMMARY:Gum Tree's Holiday Launch + 16th Birthday
DESCRIPTION:Winter Wonderland reveal! Treats\, drinks\, festive fun! Kicking off our 5 days of deals!
X-ALT-DESC;FMTTYPE=text/html:Winter Wonderland reveal! Treats\, drinks\, festive fun! Kicking off our 5 days of deals!
LOCATION:Gum Tree Hermosa Beach 238 Pier Ave Hermosa Beach\, CA 90254 Gum Tree Manhattan Beach 324 Manhattan Beach Blvd Manhattan Beach\, CA 90266
UID:e.2438.10780
SEQUENCE:3
DTSTAMP:20260422T192343Z
URL:https://business.hbchamber.net/events/details/gum-tree-s-holiday-launch-16th-birthday-10780
END:VEVENT

END:VCALENDAR
