BEGIN:VCALENDAR
VERSION:2.0
PRODID:-//ChamberMaster//Event Calendar 2.0//EN
METHOD:PUBLISH
X-PUBLISHED-TTL:P3D
REFRESH-INTERVAL:P3D
CALSCALE:GREGORIAN
BEGIN:VEVENT
DTSTART:20250501T190000Z
DTEND:20250501T200000Z
X-MICROSOFT-CDO-ALLDAYEVENT:FALSE
SUMMARY:Guidestone Church Ribbon Cutting Ceremony
DESCRIPTION:You're invited! All are welcome to join us in celebrating the official grand opening ceremony at Guidestone Church!
X-ALT-DESC;FMTTYPE=text/html:You&#39\;re invited! All are welcome to join us in celebrating the official grand opening ceremony at Guidestone Church!
LOCATION:Guidestone Church 730 11th Street Hermosa Beach\, CA 90254
UID:e.2438.11585
SEQUENCE:3
DTSTAMP:20260422T225020Z
URL:https://business.hbchamber.net/events/details/guidestone-church-ribbon-cutting-ceremony-11585
END:VEVENT

END:VCALENDAR
