BEGIN:VCALENDAR
VERSION:2.0
PRODID:-//ChamberMaster//Event Calendar 2.0//EN
METHOD:PUBLISH
X-PUBLISHED-TTL:P3D
REFRESH-INTERVAL:P3D
CALSCALE:GREGORIAN
BEGIN:VEVENT
DTSTART:20220415T013000Z
DTEND:20220415T033000Z
X-MICROSOFT-CDO-ALLDAYEVENT:FALSE
SUMMARY:"Grow Your Business" In-Person Workshop
DESCRIPTION:Has your business recovered from the pandemic lockdowns and restrictions. Come to this free workshop and let us help you identify where opportunities may exist!
X-ALT-DESC;FMTTYPE=text/html:<span style="color: rgb(21\, 27\, 33)\; font-family: Cabin\, sans-serif\; font-size: 18px\;">Has your business recovered from the pandemic lockdowns and restrictions. Come to this free workshop and let us help you identify where opportunities may exist!</span>
LOCATION:Community Center & Skate Park 710 Pier Avenue Hermosa Beach\, California 90254
UID:e.2438.5411
SEQUENCE:3
DTSTAMP:20260421T091940Z
URL:https://business.hbchamber.net/events/details/grow-your-business-in-person-workshop-5411
END:VEVENT

END:VCALENDAR
