BEGIN:VCALENDAR
VERSION:2.0
PRODID:-//ChamberMaster//Event Calendar 2.0//EN
METHOD:PUBLISH
X-PUBLISHED-TTL:P3D
REFRESH-INTERVAL:P3D
CALSCALE:GREGORIAN
BEGIN:VEVENT
DTSTART:20250406T000000Z
DTEND:20250406T030000Z
X-MICROSOFT-CDO-ALLDAYEVENT:FALSE
SUMMARY:Gallery of Hermosa's Opening Reception for the "Spirit of Omoide Yokocho (Memory Lane)" Art Exhibit!
DESCRIPTION:The Gallery of Hermosa presents "The Spirit of Omoide Yokocho (Memory Lane)" Art Exhibit\n\n\n\nPlease Join Us for the Opening Reception! Saturday April 5th\, 5-8PM (the exhibition will run until May 11th). Come enjoy Japanese inspired art and refreshments including a Yakitori grill.\n\nThis exhibit celebrates cultural heritage and the transformative power of art to connect people across generations. Works reflecting themes of resilience\, the legacy of the Japanese diaspora\, and symbols of renewal. This exhibition is not only a reflection of history and culture but also a joyous celebration of community\, creativity\, and perseverance.
X-ALT-DESC;FMTTYPE=text/html:<div>\n<h1><span style="font-size:14px"><strong>The Gallery of Hermosa presents &quot\;The Spirit of Omoide Yokocho (Memory Lane)&quot\; Art Exhibit</strong></span></h1>\n</div>\n\n<div>\n<p><span style="font-size:12px"><strong>Please Join Us for the Opening Reception!&nbsp\;Saturday April 5th\, 5-8PM (t</strong><strong>he exhibition will run&nbsp\;until May 11th). Come enjoy Japanese inspired art and refreshments including a Yakitori grill.</strong></span></p>\n\n<p><span style="font-size:12px">This exhibit celebrates cultural heritage and the transformative power of art to connect people across generations. Works reflecting themes of resilience\, the legacy of the Japanese diaspora\, and symbols of renewal. This exhibition is not only a reflection of history and culture but also a joyous celebration of community\, creativity\, and perseverance.</span></p>\n</div>\n\n<div>\n<div>\n<div>\n<div>\n<div style="text-align:right">&nbsp\;</div>\n</div>\n</div>\n</div>\n</div>\n
LOCATION:Gallery of Hermosa 138 Pier Ave. Hermosa Beach\, CA 90254
UID:e.2438.11453
SEQUENCE:3
DTSTAMP:20260422T212020Z
URL:https://business.hbchamber.net/events/details/gallery-of-hermosa-s-opening-reception-for-the-omoide-yokocho-art-exhibit-11453
END:VEVENT

END:VCALENDAR
