BEGIN:VCALENDAR
VERSION:2.0
PRODID:-//ChamberMaster//Event Calendar 2.0//EN
METHOD:PUBLISH
X-PUBLISHED-TTL:P3D
REFRESH-INTERVAL:P3D
CALSCALE:GREGORIAN
BEGIN:VEVENT
DTSTART:20250608T000000Z
DTEND:20250608T030000Z
X-MICROSOFT-CDO-ALLDAYEVENT:FALSE
SUMMARY:Gallery of Hermosa's Opening Reception for the "Discovery" Exhibit
DESCRIPTION:Please join us for the Opening Reception for the "Discovery" Exhibit at the Gallery of Hermosa. The journey of discovery is as boundless as creativity itself. Whether it?s uncovering new perspectives\, revealing hidden truths\, or pushing artistic boundaries\, discovery fuels innovation and inspires change. Come enjoy an evening at the GOH with artwork that encapsulates the thrill\, curiosity\, and revelation that come with the process of finding something new.
X-ALT-DESC;FMTTYPE=text/html:<span style="font-family:raleway\,sans-serif">Please join us for the <strong>Opening Reception for the "Discovery" Exhibit at the Gallery of Hermosa</strong>. The journey of discovery is as boundless as creativity itself. Whether it?s uncovering new perspectives\, revealing hidden truths\, or pushing artistic boundaries\, discovery fuels innovation and inspires change. Come enjoy an evening at the GOH with artwork </span><span style="font-family:raleway\,sans-serif">that encapsulates the thrill\, curiosity\, and revelation that come with the process of finding something new.</span>
LOCATION:Gallery of Hermosa 138 Pier Ave. Hermosa Beach\, CA 90254
UID:e.2438.12245
SEQUENCE:3
DTSTAMP:20260423T004834Z
URL:https://business.hbchamber.net/events/details/gallery-of-hermosa-s-opening-reception-for-the-discovery-exhibit-12245
END:VEVENT

END:VCALENDAR
