BEGIN:VCALENDAR
VERSION:2.0
PRODID:-//ChamberMaster//Event Calendar 2.0//EN
METHOD:PUBLISH
X-PUBLISHED-TTL:P3D
REFRESH-INTERVAL:P3D
CALSCALE:GREGORIAN
BEGIN:VEVENT
DTSTART;VALUE=DATE:20250501
DTEND;VALUE=DATE:20250515
TRANSP:TRANSPARENT
X-MICROSOFT-CDO-ALLDAYEVENT:TRUE
SUMMARY:Gallery of Hermosa - Call for Art: "DISCOVERY"
DESCRIPTION:The journey of discovery is as boundless as creativity itself. Whether it's uncovering new perspectives\, revealing hidden truths\, or pushing artistic boundaries\, discovery fuels innovation and inspires change. We invite artists to interpret the theme "DISCOVERY" and submit a work that encapsulates the thrill\, curiosity\, and revelation that come with the process of finding something new.\n\n\n\nHow does discovery manifest in your work?  All mediums are welcome\, and preference will be given to newer works that have not been previously displayed in the Los Angeles area.\n\n\n\nEligible Works:\n\nWe welcome 2D works in all mediums and smaller 3D sculptures. Can include but not limited to paintings in oil\, watercolor\, mixed media\, pastel\, acrylic\, pen and ink\, sumi-e\, pencil drawings\, works in ceramic\, bronze\, marble\, stone or other mediums. We will consider all genres including but not limited to landscapes\, figurative\, portraits\, abstract\, surreal\, still life\, impressionism\, expressionism\, pop art\, realism\, conceptual art\, digital art\, photography and more.
X-ALT-DESC;FMTTYPE=text/html:The journey of discovery is as boundless as creativity itself. Whether it&rsquo\;s uncovering new perspectives\, revealing hidden truths\, or pushing artistic boundaries\, discovery fuels innovation and inspires change. We invite artists to interpret the theme &ldquo\;DISCOVERY&rdquo\; and submit a work that encapsulates the thrill\, curiosity\, and revelation that come with the process of finding something new.<br />\n<br />\nHow does discovery manifest in your work?&nbsp\; All mediums are welcome\, and preference will be given to newer works that have not been previously displayed in the Los Angeles area.<br />\n<br />\n<strong>Eligible Works:</strong><br />\nWe welcome 2D works in all mediums and smaller 3D sculptures. Can include but not limited to paintings in oil\, watercolor\, mixed media\, pastel\, acrylic\, pen and ink\, sumi-e\, pencil drawings\, works in ceramic\, bronze\, marble\, stone or other mediums. We will consider all genres including but not limited to landscapes\, figurative\, portraits\, abstract\, surreal\, still life\, impressionism\, expressionism\, pop art\, realism\, conceptual art\, digital art\, photography and more.
LOCATION:
UID:e.2438.12229
SEQUENCE:3
DTSTAMP:20260422T225126Z
URL:https://business.hbchamber.net/events/details/gallery-of-hermosa-call-for-art-discovery-12229
END:VEVENT

END:VCALENDAR
