BEGIN:VCALENDAR
VERSION:2.0
PRODID:-//ChamberMaster//Event Calendar 2.0//EN
METHOD:PUBLISH
X-PUBLISHED-TTL:P3D
REFRESH-INTERVAL:P3D
CALSCALE:GREGORIAN
BEGIN:VEVENT
DTSTART:20250618T210000Z
DTEND:20250618T220000Z
X-MICROSOFT-CDO-ALLDAYEVENT:FALSE
SUMMARY:Future Automation & Design Ribbon Cutting and Grand Opening
DESCRIPTION:Future Automation & Design specializes in home theater design and installation\, television/front projector installation and calibration\, surround sound speaker installation\, and home automation design and installation\, including wireless thermostats and lighting systems.\n\n\n\nOur background and expertise consists of over thirteen years in the audio/video design and installation business. We only use the best brands and are dedicated to completing each project in a timely and professional manner\, under a licensed and insured team\, from the initial in-home consultation to the final programmed system and explanation.\n\n\n\nWe have the perfect audio/video system solution for your home or business. We're committed to helping you figure out what best fits your needs and budget. We're happy to answer all your questions and to give you a customized consultation and quote.\n\n\n\nWhether it's a new remote control needed for an existing theater system\, or a full house audio/video system for a new construction project\, we are the experts that will take care of you. We offer unmatched customer support before\, during\, and after the project. Future Automation & Design is your one-stop solution. Call us today for a free consultation!
X-ALT-DESC;FMTTYPE=text/html:Future Automation &amp\; Design specializes in home theater design and installation\, television/front projector installation and calibration\, surround sound speaker installation\, and home automation design and installation\, including wireless thermostats and lighting systems.<br />\n<br />\nOur background and expertise consists of over thirteen years in the audio/video design and installation business. We only use the best brands and are dedicated to completing each project in a timely and professional manner\, under a licensed and insured team\, from the initial in-home consultation to the final programmed system and explanation.<br />\n<br />\nWe have the perfect audio/video system solution for your home or business. We&#39\;re committed to helping you figure out what best fits your needs and budget. We&#39\;re happy to answer all your questions and to give you a customized consultation and quote.<br />\n<br />\nWhether it&#39\;s a new remote control needed for an existing theater system\, or a full house audio/video system for a new construction project\, we are the experts that will take care of you. We offer unmatched customer support before\, during\, and after the project. Future Automation &amp\; Design is your one-stop solution. Call us today for a free consultation!
LOCATION:Future Automation & Design Inc. 800 Torrance Blvd\, STE 108 Redondo Beach\, CA 90277
UID:e.2438.12424
SEQUENCE:3
DTSTAMP:20260423T004415Z
URL:https://business.hbchamber.net/events/details/future-automation-design-ribbon-cutting-and-grand-opening-12424
END:VEVENT

END:VCALENDAR
