BEGIN:VCALENDAR
VERSION:2.0
PRODID:-//ChamberMaster//Event Calendar 2.0//EN
METHOD:PUBLISH
X-PUBLISHED-TTL:P3D
REFRESH-INTERVAL:P3D
CALSCALE:GREGORIAN
BEGIN:VEVENT
DTSTART:20241113T180000Z
DTEND:20241113T190000Z
X-MICROSOFT-CDO-ALLDAYEVENT:FALSE
SUMMARY:Fusion Coffee Chat
DESCRIPTION:Visit our campus and have a cup of coffee on us! Enjoy a fresh cup of coffee and learn more about Fusion's personalized one-to-one teaching for academic\, social\, and emotional success. You'll get an inside look at how Fusion customizes curriculums and experiences for each student. Tour our Homework Caf  \, one-to-one classrooms\, and our professional music and recording arts studios.
X-ALT-DESC;FMTTYPE=text/html:Visit our campus and have a cup of coffee on us! Enjoy a fresh cup of coffee and learn more about Fusion&rsquo\;s personalized one-to-one teaching for academic\, social\, and emotional success. You&rsquo\;ll get an inside look at how Fusion customizes curriculums and experiences for each student. Tour our Homework Caf&eacute\;&reg\;\, one-to-one classrooms\, and our professional music and recording arts studios.
LOCATION:Fusion Academy South Bay Campus 1601 Pacific Coast Hwy Suite 260 Hermosa Beach\, CA 90254
UID:e.2438.10797
SEQUENCE:3
DTSTAMP:20260422T192145Z
URL:https://business.hbchamber.net/events/details/fusion-coffee-chat-10797
END:VEVENT

END:VCALENDAR
