BEGIN:VCALENDAR
VERSION:2.0
PRODID:-//ChamberMaster//Event Calendar 2.0//EN
METHOD:PUBLISH
X-PUBLISHED-TTL:P3D
REFRESH-INTERVAL:P3D
CALSCALE:GREGORIAN
BEGIN:VEVENT
DTSTART:20250117T190000Z
DTEND:20250118T020000Z
X-MICROSOFT-CDO-ALLDAYEVENT:FALSE
SUMMARY:Funk It Up Friday: A Fundraiser for LA Wildfires
DESCRIPTION:Funking it up this Friday to raise money for California Community Foundation. Join us as Bone by Dawn creates beautiful hand-embroidered LA hats and Ashley brings to life chain-stitched bandannas and patches. We are donating 50% of all sales from their amazing handmade Los Angeles merch to California Community Foundation\, supporting wildlife relief efforts. Swing by\, choose your favorite hat\, pick out a bandanna\, and add a little LA love to it.
X-ALT-DESC;FMTTYPE=text/html:Funking it up this Friday to raise money for California Community Foundation. Join us as Bone by Dawn creates beautiful hand-embroidered LA hats and Ashley brings to life chain-stitched bandannas and patches. We are donating 50% of all sales from their amazing handmade Los Angeles merch to California Community Foundation\, supporting wildlife relief efforts. Swing by\, choose your favorite hat\, pick out a bandanna\, and add a little LA love to it.&nbsp\;
LOCATION:The Bungalow 52 11th Street Hermosa Beach\, CA 90254
UID:e.2438.11394
SEQUENCE:3
DTSTAMP:20260422T142136Z
URL:https://business.hbchamber.net/events/details/funk-it-up-friday-a-fundraiser-for-la-wildfires-11394
END:VEVENT

END:VCALENDAR
