BEGIN:VCALENDAR
VERSION:2.0
PRODID:-//ChamberMaster//Event Calendar 2.0//EN
METHOD:PUBLISH
X-PUBLISHED-TTL:P3D
REFRESH-INTERVAL:P3D
CALSCALE:GREGORIAN
BEGIN:VEVENT
DTSTART:20220424T040000Z
DTEND:20220424T065500Z
X-MICROSOFT-CDO-ALLDAYEVENT:FALSE
SUMMARY:FUNK IN AGAVE AZUL
DESCRIPTION:MIND BODY & SOUL FT DR.FUNK. DANCE CONCERT. PERFORMING ALL THERE HITS And COVERS ORGAINIC FUNK
X-ALT-DESC;FMTTYPE=text/html:<span style="color: rgb(0\, 0\, 0)\; font-family: &quot\;Helvetica Neue&quot\;\, Helvetica\, Arial\, sans-serif\; font-size: medium\; white-space: pre-line\;">MIND BODY &amp\; SOUL FT DR.FUNK. DANCE CONCERT. PERFORMING ALL THERE HITS And COVERS ORGAINIC FUNK</span>
LOCATION:Agave Azul 1320 Hermosa Ave\, Hermosa Beach\, CA 90254
UID:e.2438.5392
SEQUENCE:3
DTSTAMP:20260421T091251Z
URL:https://business.hbchamber.net/events/details/funk-in-agave-azul-5392
END:VEVENT

END:VCALENDAR
