BEGIN:VCALENDAR
VERSION:2.0
PRODID:-//ChamberMaster//Event Calendar 2.0//EN
METHOD:PUBLISH
X-PUBLISHED-TTL:P3D
REFRESH-INTERVAL:P3D
CALSCALE:GREGORIAN
BEGIN:VEVENT
DTSTART:20220415T010000Z
DTEND:20220415T020000Z
X-MICROSOFT-CDO-ALLDAYEVENT:FALSE
SUMMARY:Fundraiser for Ukraine UFA Muay Thai Class
DESCRIPTION:
X-ALT-DESC;FMTTYPE=text/html:
LOCATION:
UID:e.2438.5408
SEQUENCE:3
DTSTAMP:20260421T091511Z
URL:https://business.hbchamber.net/events/details/fundraiser-for-ukraine-ufa-muay-thai-class-5408
END:VEVENT

END:VCALENDAR
