BEGIN:VCALENDAR
VERSION:2.0
PRODID:-//ChamberMaster//Event Calendar 2.0//EN
METHOD:PUBLISH
X-PUBLISHED-TTL:P3D
REFRESH-INTERVAL:P3D
CALSCALE:GREGORIAN
BEGIN:VEVENT
DTSTART:20220331T000000Z
DTEND:20220331T020000Z
X-MICROSOFT-CDO-ALLDAYEVENT:FALSE
SUMMARY:Fundamental Coast Ribbon Cutting
DESCRIPTION:Join us in celebrating the opening of a new business in Hermosa Beach\, Fundamental Coast! Hang out\, enjoy some snacks\, listen to music\, and more! The ribbon cutting will take place at Fundamental Coast and follow with a celebration at Zane's. Please RSVP!
X-ALT-DESC;FMTTYPE=text/html:Join us in celebrating the opening of a new business in Hermosa Beach\, Fundamental Coast! Hang out\, enjoy some snacks\, listen to music\, and more! The ribbon cutting will take place at Fundamental Coast and follow with a celebration at Zane&#39\;s. Please RSVP!
LOCATION:Fundamental Coast 112 Pier Avenue Hermosa Beach\, CA 90254 Zane's Restaurant 5:30 - 7:00 PM 1150 Hermosa Ave. Hermosa Beach
UID:e.2438.5294
SEQUENCE:3
DTSTAMP:20260421T105345Z
URL:https://business.hbchamber.net/events/details/fundamental-coast-ribbon-cutting-5294
END:VEVENT

END:VCALENDAR
