BEGIN:VCALENDAR
VERSION:2.0
PRODID:-//ChamberMaster//Event Calendar 2.0//EN
METHOD:PUBLISH
X-PUBLISHED-TTL:P3D
REFRESH-INTERVAL:P3D
CALSCALE:GREGORIAN
BEGIN:VEVENT
DTSTART:20250711T230000Z
DTEND:20250712T043000Z
X-MICROSOFT-CDO-ALLDAYEVENT:FALSE
SUMMARY:Friday Night Social Bowls
DESCRIPTION:Music\, Bowling\, Refreshments--BYOF & BYOD\n\nChoose your players & challenge friends\n\nCome early\, Stay late !!!\n\nBowls and Equipment provided
X-ALT-DESC;FMTTYPE=text/html:Music\, Bowling\, Refreshments--BYOF &amp\; BYOD<br />\nChoose your players &amp\; challenge friends<br />\nCome early\, Stay late !!!<br />\nBowls and Equipment provided
LOCATION:Hermosa Lawn Bowling Club 861 Valley Drive Hermosa Beach\, CA 90254
UID:e.2438.12500
SEQUENCE:3
DTSTAMP:20260423T040706Z
URL:https://business.hbchamber.net/events/details/friday-night-social-bowls-12500
END:VEVENT

END:VCALENDAR
