BEGIN:VCALENDAR
VERSION:2.0
PRODID:-//ChamberMaster//Event Calendar 2.0//EN
METHOD:PUBLISH
X-PUBLISHED-TTL:P3D
REFRESH-INTERVAL:P3D
CALSCALE:GREGORIAN
BEGIN:VEVENT
DTSTART:20250405T170000Z
DTEND:20250405T190000Z
X-MICROSOFT-CDO-ALLDAYEVENT:FALSE
SUMMARY:Free Workshop & Support Group for Parents Affected by the Recent LA Fires
DESCRIPTION:Losing your home and navigating displacement is an immense challenge. Join us for a supportive gathering to share\, listen\, and begin the healing process with others who understand. \n\n\n\nWhat to Expect:\n\n	A safe space to share reflections and expiences from the past 3 months\, or simply listen\n	Restorative exercises to promote coping and reduce overwhelm\n	Clarity and guidance for navigating next steps\n	Connection with other parents facing similar struggles\n	A needs assessment to explore how we can support your family's emotional well-being\n	Acknowledgement of trauma\, suffering\, and resilience\n\n\n\nThis free workshop aims to bring together parents who have endured a collective trauma\, fostering healing and connection. Based on the workshop's success\, ongoing support groups may be created for both parents and children. \n\n\n\nFor more information and to reserve your spot\, please contact\n\n310-817-0599\n\ninfo@leahmniehaus.com\n\nwww.leahmniehaus.com
X-ALT-DESC;FMTTYPE=text/html:Losing your home and navigating displacement is an immense challenge. Join us for a supportive gathering to share\, listen\, and begin the healing process with others who understand.&nbsp\;<br />\n<br />\nWhat to Expect:\n<ul>\n	<li>A safe space to share reflections and expiences from the past 3 months\, or simply listen</li>\n	<li>Restorative exercises to promote coping and reduce overwhelm</li>\n	<li>Clarity and guidance for navigating next steps</li>\n	<li>Connection with other parents facing similar struggles</li>\n	<li>A needs assessment to explore how we can support your family&#39\;s emotional well-being</li>\n	<li>Acknowledgement of trauma\, suffering\, and resilience</li>\n</ul>\n<br />\nThis free workshop aims to bring together parents who have endured a collective trauma\, fostering healing and connection. Based on the workshop&#39\;s success\, ongoing support groups may be created for both parents and children.&nbsp\;<br />\n<br />\nFor more information and to reserve your spot\, please contact<br />\n310-817-0599<br />\ninfo@leahmniehaus.com<br />\nwww.leahmniehaus.com&nbsp\;
LOCATION:TBD Hermosa Beach\, CA 90254
UID:e.2438.11458
SEQUENCE:3
DTSTAMP:20260422T210202Z
URL:https://business.hbchamber.net/events/details/free-workshop-support-group-for-parents-affected-by-the-recent-la-fires-11458
END:VEVENT

END:VCALENDAR
