BEGIN:VCALENDAR
VERSION:2.0
PRODID:-//ChamberMaster//Event Calendar 2.0//EN
METHOD:PUBLISH
X-PUBLISHED-TTL:P3D
REFRESH-INTERVAL:P3D
CALSCALE:GREGORIAN
BEGIN:VEVENT
DTSTART:20241122T010000Z
DTEND:20241122T033000Z
X-MICROSOFT-CDO-ALLDAYEVENT:FALSE
SUMMARY:Free Live Music in The Garden at Rockefeller Redondo
DESCRIPTION:
X-ALT-DESC;FMTTYPE=text/html:
LOCATION:Rockefeller Redondo Beach 1707 S Catalina Ave Redondo Beach\, CA 90277
UID:e.2438.11018
SEQUENCE:3
DTSTAMP:20260422T193003Z
URL:https://business.hbchamber.net/events/details/free-live-music-in-the-garden-at-rockefeller-redondo-11018
END:VEVENT

END:VCALENDAR
