BEGIN:VCALENDAR
VERSION:2.0
PRODID:-//ChamberMaster//Event Calendar 2.0//EN
METHOD:PUBLISH
X-PUBLISHED-TTL:P3D
REFRESH-INTERVAL:P3D
CALSCALE:GREGORIAN
BEGIN:VEVENT
DTSTART:20250612T020000Z
DTEND:20250612T040000Z
X-MICROSOFT-CDO-ALLDAYEVENT:FALSE
SUMMARY:**FREE** Jack Daniel’s Presents: Big Shot Karaoke! Contest Week Four
DESCRIPTION:**FREE** Jack Daniel's Presents: Big Shot Karaoke!\n\nGenre: Karaoke\, Cover Band\n\n21+ Only\n\n\n\nGet ready to unleash your inner superstar because we're launching a fabulous contest just for our local Rocke Stars! \n\nOver the next six months\, we're cranking up the fun with an electrifying karaoke showdown! Each week\, we'll crown two Rocke Stars based on their vocal chops\, song magic\, and dazzling stage presence. And guess what? The audience gets to play judge\, so rally your squad and bring the noise!\n\nBut wait\, there's more! Our grand prize is a ticket to fame one lucky winner and a buddy will jet off to Las Vegas for an unforgettable karaoke weekend on the Strip! Let the singing showdown begin!
X-ALT-DESC;FMTTYPE=text/html:**FREE** Jack Daniel&rsquo\;s Presents: Big Shot Karaoke!<br />\nGenre: Karaoke\, Cover Band<br />\n21+ Only<br />\n<br />\nGet ready to unleash your inner superstar because we&rsquo\;re launching a fabulous contest just for our local Rocke Stars!&nbsp\;<br />\nOver the next six months\, we&rsquo\;re cranking up the fun with an electrifying karaoke showdown! Each week\, we&rsquo\;ll crown two Rocke Stars based on their vocal chops\, song magic\, and dazzling stage presence. And guess what? The audience gets to play judge\, so rally your squad and bring the noise!<br />\nBut wait\, there&rsquo\;s more! Our grand prize is a ticket to fame&mdash\;one lucky winner and a buddy will jet off to Las Vegas for an unforgettable karaoke weekend on the Strip! Let the singing showdown begin!&nbsp\;
LOCATION:Saint Rocke 142 Pacific Coast Hwy\, Hermosa Beach\, CA 90254
UID:e.2438.12437
SEQUENCE:3
DTSTAMP:20260423T004338Z
URL:https://business.hbchamber.net/events/details/free-jack-daniel-s-presents-big-shot-karaoke-contest-week-four-12437
END:VEVENT

END:VCALENDAR
